BEGIN:VCALENDAR
VERSION:2.0
PRODID:-//Ordblindeforeningen - ECPv6.15.20//NONSGML v1.0//EN
CALSCALE:GREGORIAN
METHOD:PUBLISH
X-ORIGINAL-URL:https://www.ordblindeforeningen.dk
X-WR-CALDESC:Begivenheder for Ordblindeforeningen
REFRESH-INTERVAL;VALUE=DURATION:PT1H
X-Robots-Tag:noindex
X-PUBLISHED-TTL:PT1H
BEGIN:VTIMEZONE
TZID:Europe/Copenhagen
BEGIN:DAYLIGHT
TZOFFSETFROM:+0100
TZOFFSETTO:+0200
TZNAME:CEST
DTSTART:20220327T010000
END:DAYLIGHT
BEGIN:STANDARD
TZOFFSETFROM:+0200
TZOFFSETTO:+0100
TZNAME:CET
DTSTART:20221030T010000
END:STANDARD
BEGIN:DAYLIGHT
TZOFFSETFROM:+0100
TZOFFSETTO:+0200
TZNAME:CEST
DTSTART:20230326T010000
END:DAYLIGHT
BEGIN:STANDARD
TZOFFSETFROM:+0200
TZOFFSETTO:+0100
TZNAME:CET
DTSTART:20231029T010000
END:STANDARD
BEGIN:DAYLIGHT
TZOFFSETFROM:+0100
TZOFFSETTO:+0200
TZNAME:CEST
DTSTART:20240331T010000
END:DAYLIGHT
BEGIN:STANDARD
TZOFFSETFROM:+0200
TZOFFSETTO:+0100
TZNAME:CET
DTSTART:20241027T010000
END:STANDARD
BEGIN:DAYLIGHT
TZOFFSETFROM:+0100
TZOFFSETTO:+0200
TZNAME:CEST
DTSTART:20250330T010000
END:DAYLIGHT
BEGIN:STANDARD
TZOFFSETFROM:+0200
TZOFFSETTO:+0100
TZNAME:CET
DTSTART:20251026T010000
END:STANDARD
END:VTIMEZONE
BEGIN:VEVENT
DTSTART;TZID=Europe/Copenhagen:20241110T093000
DTEND;TZID=Europe/Copenhagen:20241110T143000
DTSTAMP:20260425T165350
CREATED:20240109T102456Z
LAST-MODIFIED:20241017T090328Z
UID:10000181-1731231000-1731249000@www.ordblindeforeningen.dk
SUMMARY:It-workshop for børn i 4. til 6. klasse (Tønder) - AFLYST
DESCRIPTION:Lyt\n        \n        IT-workshoppen er aflyst\, og er rykket til søndag den 17. november 2024\n“Bliv skarp på din ordblindhed og IT-redskaberne” – Gratis workshop for barn og forælder  \nHar du et ordblindt barn i 4. til 6. klasse\, som trænger til hjælp for at lykkes? Så har du nu muligheden for at deltage i en givende og effektiv workshop sammen med dit barn. \nMålet for dagen er at give dig og dit barn en forståelse for\, hvad ordblindhed er\, og at ruste jer til brugen af IT-redskaber. \nDer vil være fokus på at arbejde med selvværd og at gøre mobiltelefonen og computeren til daglige redskaber\, der kan hjælpe i hverdagen og i skolen. \nSamtidig får du som forælder mulighed for at netværke med andre forældre. \n  \nTidspunkt: Workshoppen er fra 9.30-14.30 og inkluderer fuld forplejning. \nDato: Den 10. november 2024 \nSted: Tønder \nUnderviser: Christian Bock \n  \nTilmelding foregår efter først-til-mølle-princippet\, hvilket betyder\, at I er tilmeldt workshoppen\, så snart I har en billet. Billetten bliver tilsendt til den mail\, som du opgiver ved tilmelding. \nDu tilmelder dit barn ved at trække 1 gratis billet på hjemmesiden.  \nOBS! Du er som forælder inkluderet i dit barns billet\, så I skal KUN trække 1 billet! \nNB! Det er kun tilladt at deltage i 1 workshop pr. halvår. \nWorkshoppen er et gratis tilbud til alle. Har I ikke et medlemsnummer\, skriver I ´0000´ i feltet\, når I tilmelder jer. \n  \nOm underviser Christian Bock: \nChristian Bock er uddannet mekaniker og ejendomsservice tekniker. \nI 2009 startede han sin egen virksomhed\, Ordblindementor. Se mere på www.ordblindementor.dk. \nI dag arbejder han for skoler\, jobcentre og kommuner\, hvor han bl.a. hjælper med opsætning og installation af it-hjælpemidler til ordblinde og mennesker med et læsehandicap. \nTil dato har han afholdt over 1000 foredrag om ordblindhed\, hvor han altid fortæller om sin egen situation som stærk ordblind og sin afhængighed af it-hjælpemidler. \n  \nVi forbeholder os retten til ændringer og eventuelle aflysninger
URL:https://www.ordblindeforeningen.dk/event/it-workshop-for-barn-og-foraelder-jylland/
LOCATION:Tønder\, Åbenråvej 14\, Tønder
ATTACH;FMTTYPE=image/jpeg:https://www.ordblindeforeningen.dk/wp-content/uploads/2024/01/Begivenheder-skole-it-boern-unge2-scaled.jpg
END:VEVENT
BEGIN:VEVENT
DTSTART;TZID=Europe/Copenhagen:20231028T090000
DTEND;TZID=Europe/Copenhagen:20231028T150000
DTSTAMP:20260425T165350
CREATED:20230707T105050Z
LAST-MODIFIED:20231012T090057Z
UID:10000107-1698483600-1698505200@www.ordblindeforeningen.dk
SUMMARY:It-workshop (LST) for børn og forældre (Jylland)
DESCRIPTION:Lyt\n        \n        “Bliv skarp på din ordblindhed og IT-redskaberne” – Gratis dagskursus for barn og forælder  \nHar du et ordblindt barn 4. til 9. klasse\, som trænger til at få hjælp til at lykkes. Så har du nu muligheden for at komme på alle tiders intensive kursusdag sammen med dit barn. \nMålet for dagen er give dig og dit barn en forståelse for\, hvad ordblindhed er og klæde jer godt på til IT-redskaberne. \nDer er fokus på at arbejde med selvværd og gøre mobilen og computeren til daglige redskaber\, der kan hjælpe i hverdag og skole. \nSamtidig får du som forælder mulighed for at netværke med andre forældre. \nKurset varer fra 9-15 og er med fuld forplejning. \nDato: 28. oktober 2023 \nSted: Emerske efterskole\, Åbenråvej 14\, 6270 Tønder \nUnderviser: Christian Bock \nDer plads til 8 børn og deres ene forælder på hvert kursus. Der trækkes lod om pladserne\, og deltagerne får direkte besked\, hvis de er med på kurset. \nN.B. Tilmelding senest den 17. oktober 2023. \nTilmeld dig og dit barn ved at “købe” en gratis billet på hjemmesiden.\nBemærk\, at der trækkes lod om pladserne\, når tilmeldingsfristen er udløbet. Dem\, der tilbydes plads får direkte besked. \nSkriv følgende oplysninger\, når du udfylder billetskabelon: \n– Navn på barn og forælder \n– Telefon til forælder \n– Klassetrin \n– Hvilken mobil har barnet? \n– Hvilken computer har barnet? \n– Hvilke hjælpemidler bruges i skolen (Appwriter\, IntoWords\, CD-ORD) \nKurset er et gratis tilbud til alle. Har du ikke et medlemsnummer\, skriver du ´0000´ i feltet\, når du tilmelder dig. \nUnderviser: \nChristian Bock \nChristian Bock er uddannet mekaniker og ejendomsservice tekniker. \nI 2009 startede han min egen virksomhed\, Ordblindementor. Se mere på www.ordblindementor.dk. \nI dag arbejder han for skoler\, jobcenter og kommuner\, hvor han bl.a. hjælper med opsætning og installation af it-hjælpemidler til ordblinde og mennesker med et læsehandicap. \nTil dato har han afholdt over 1000 foredrag om ordblindhed\, hvor han altid fortæller om min egen situation som stærk ordblind og sin afhængighed af it-hjælpemidler.
URL:https://www.ordblindeforeningen.dk/event/it-workshop-lst-for-boern-og-foraeldre-jylland-2/
LOCATION:Tønder\, Åbenråvej 14\, Tønder
ORGANIZER;CN="Ordblindeforeningen":MAILTO:kontor@ordblind.org
END:VEVENT
END:VCALENDAR