BEGIN:VCALENDAR
VERSION:2.0
PRODID:-//Ordblindeforeningen - ECPv6.15.20//NONSGML v1.0//EN
CALSCALE:GREGORIAN
METHOD:PUBLISH
X-WR-CALNAME:Ordblindeforeningen
X-ORIGINAL-URL:https://www.ordblindeforeningen.dk
X-WR-CALDESC:Begivenheder for Ordblindeforeningen
REFRESH-INTERVAL;VALUE=DURATION:PT1H
X-Robots-Tag:noindex
X-PUBLISHED-TTL:PT1H
BEGIN:VTIMEZONE
TZID:Europe/Copenhagen
BEGIN:DAYLIGHT
TZOFFSETFROM:+0100
TZOFFSETTO:+0200
TZNAME:CEST
DTSTART:20240331T010000
END:DAYLIGHT
BEGIN:STANDARD
TZOFFSETFROM:+0200
TZOFFSETTO:+0100
TZNAME:CET
DTSTART:20241027T010000
END:STANDARD
BEGIN:DAYLIGHT
TZOFFSETFROM:+0100
TZOFFSETTO:+0200
TZNAME:CEST
DTSTART:20250330T010000
END:DAYLIGHT
BEGIN:STANDARD
TZOFFSETFROM:+0200
TZOFFSETTO:+0100
TZNAME:CET
DTSTART:20251026T010000
END:STANDARD
BEGIN:DAYLIGHT
TZOFFSETFROM:+0100
TZOFFSETTO:+0200
TZNAME:CEST
DTSTART:20260329T010000
END:DAYLIGHT
BEGIN:STANDARD
TZOFFSETFROM:+0200
TZOFFSETTO:+0100
TZNAME:CET
DTSTART:20261025T010000
END:STANDARD
END:VTIMEZONE
BEGIN:VEVENT
DTSTART;TZID=Europe/Copenhagen:20250109T170000
DTEND;TZID=Europe/Copenhagen:20250109T180000
DTSTAMP:20260421T164855
CREATED:20250108T151743Z
LAST-MODIFIED:20250108T152352Z
UID:10000311-1736442000-1736445600@www.ordblindeforeningen.dk
SUMMARY:Informationsmøde om iværksætterforløb for ordblinde i Nordjylland
DESCRIPTION:Lyt\n        \n        Informationsmøde om Styrk Dine Styrker i Nordjylland \nHar du overvejet at deltage i vores iværksætterforløb i Nordjylland\, som vi afholder i samarbejde med Danske Iværksættere? \nDeltag i vores online infomøde torsdag d. 9. januar kl. 17.00-18.00\, og lær mere om\, hvad du kan forvente og hvordan Styrk Dine Styrker er relevant for dig. Du ansøger om en plads på forløbet ved infomødet. \nTilmeld dig og læs mere om infomødet her. \nHar du spørgsmål? Tag fat i Danske Iværksættere på tlf. +4542161436 eller styrkdinestyrker@dkiv.dk.
URL:https://www.ordblindeforeningen.dk/event/informationsmoede-om-ivaerksaetterforloeb-for-ordblinde-i-nordjylland/
LOCATION:Online
ATTACH;FMTTYPE=image/jpeg:https://www.ordblindeforeningen.dk/wp-content/uploads/2024/06/Styrk-dine-styrker-danske-ivaerksaettere-ordblindeforeningen-scaled.jpg
END:VEVENT
BEGIN:VEVENT
DTSTART;TZID=Europe/Copenhagen:20250118T123000
DTEND;TZID=Europe/Copenhagen:20250118T143000
DTSTAMP:20260421T164855
CREATED:20241218T070017Z
LAST-MODIFIED:20250116T145213Z
UID:10000306-1737203400-1737210600@www.ordblindeforeningen.dk
SUMMARY:Kom til AppWriter-kursus med Wizkids (Taastrup) – AFLYST
DESCRIPTION:Lyt\n        \n        Bliv skarp på AppWriter og lær effektive skrive-strategier til hverdagen – Gratis kursus for barn og forælder (= 2 personer) \nPå dette forældre-barn kursus får du tips og tricks til at bruge AppWriter effektivt i hverdagen. Vi vil lære dig strategier til\, hvordan du kan bruge oplæsning\, ordforslag og tale til tekst til at støtte skriveprocessen. Vi glæder os til at se dig og én forælder til kurset. \nOBS! Dit barn skal gå i 4. til 9. klasse og bruge AppWriter som hjælpemiddel for at kunne deltage i kurset. \nTilmelding: I tilmelder jer ved at trække én billet her på siden. Barn og én forælder er inkluderet i samme billet\, så I skal kun trække én! \nTilmelding sker efter først-til-mølle-princippet\, så I er tilmeldt workshoppen\, så snart I har en billet. \nOBS! I skal være medlem af foreningen for at kunne deltage i workshoppen. Er I ikke medlem? Så kan I blive det her. \nHar I spørgsmål til workshoppen\, er I velkomne til at skrive til event@ordblind.org. \n  \nVi forbeholder os retten til at foretage ændringer eller aflyse arrangementet i tilfælde af for få tilmeldinger.
URL:https://www.ordblindeforeningen.dk/event/kom-til-appwriter-kursus-med-wizkids-taastrup/
LOCATION:DH-Huset\, Blekinge Boulevard 2\, Taastrup\, 2630
ATTACH;FMTTYPE=image/jpeg:https://www.ordblindeforeningen.dk/wp-content/uploads/2024/09/Begivenheder-foredrag-undervisning1-scaled.jpg
END:VEVENT
BEGIN:VEVENT
DTSTART;VALUE=DATE:20250121
DTEND;VALUE=DATE:20250214
DTSTAMP:20260421T164855
CREATED:20241023T132914Z
LAST-MODIFIED:20250108T092123Z
UID:10000254-1737417600-1739491199@www.ordblindeforeningen.dk
SUMMARY:Styrk Dine Styrker - Lær at starte en succesfuld virksomhed (Nordjylland)
DESCRIPTION:Lyt\n        \n        Ordblinde besidder unikke styrker! Lær\, hvordan du bruger dine styrker til at starte en succesfuld virksomhed. \nStyrk Dine Styrker kurset handler om at give ordblinde en håndsrækning til at udnytte deres styrker gennem iværksætteri. Vi tilbyder personer med læse- og skrivevanskeligheder et målrettet iværksætterforløb\, der passer til deres behov og måde at lære på. \nPå dette forløb vil erfarne undervisere styrke dine kompetencer og ruste dig med værktøjer\, der giver dig et solidt fundament til at bygge din egen succesfulde iværksættervirksomhed. \nGå ikke glip af denne unikke mulighed for at udvikle dine iværksætterfærdigheder\, ved at få støtte til at overkomme de udfordringer\, der følger med ordblindhed. Sammen kan vi styrke dine styrker og hjælpe dig med at realisere dine drømme som iværksætter! \nPraktiske informationer: \n\nSted: Kurset er en kombination af fysisk og online undervisning. Den fysiske undervisning vil foregå i Aalborg.\nUndervisningsdage: Tirsdage og torsdage i uge 4-7.\nPris: Gratis.\nTilmelding: Tilmelding foregår via Styrk Dine Styrkers hjemmeside. Du kan klikke her for at tilmelde dig.\n\n  \nStyrk Dine Styrker er et projekt skabt af Danske Iværksættere og Ordblindeforeningen Danmark – og støttet af Tietgenfonden. Projektet har til hensigt at undersøge\, hvordan man bedst kan støtte ordblinde i at starte egen virksomhed. Dette gør vi gennem målrettede forløb og aktiviteter for ordblinde i hele Danmark.
URL:https://www.ordblindeforeningen.dk/event/styrk-din-styrker-laer-at-starte-en-succesfuld-virksomhed-nordjylland/
LOCATION:Nordjylland
ATTACH;FMTTYPE=image/jpeg:https://www.ordblindeforeningen.dk/wp-content/uploads/2024/06/Styrk-dine-styrker-danske-ivaerksaettere-ordblindeforeningen-scaled.jpg
END:VEVENT
BEGIN:VEVENT
DTSTART;TZID=Europe/Copenhagen:20250125T093000
DTEND;TZID=Europe/Copenhagen:20250125T113000
DTSTAMP:20260421T164855
CREATED:20241218T070036Z
LAST-MODIFIED:20250120T093802Z
UID:10000308-1737797400-1737804600@www.ordblindeforeningen.dk
SUMMARY:Kom til AppWriter-kursus med Wizkids (Vejle)
DESCRIPTION:Lyt\n        \n        Bliv skarp på AppWriter og lær effektive skrive-strategier til hverdagen – Gratis kursus for barn og forælder (= 2 personer) \nPå dette forældre-barn kursus får du tips og tricks til at bruge AppWriter effektivt i hverdagen. Vi vil lære dig strategier til\, hvordan du kan bruge oplæsning\, ordforslag og tale til tekst til at støtte skriveprocessen. Vi glæder os til at se dig og én forælder til kurset. \nOBS! Dit barn skal gå i 4. til 9. klasse og bruge AppWriter som hjælpemiddel for at kunne deltage i kurset. \nTilmelding: I tilmelder jer ved at trække én billet her på siden. Barn og én forælder er inkluderet i samme billet\, så I skal kun trække én! \nTilmelding sker efter først-til-mølle-princippet\, så I er tilmeldt workshoppen\, så snart I har en billet. \nOBS! I skal være medlem af foreningen for at kunne deltage i workshoppen. Er I ikke medlem? Så kan I blive det her. \nHar I spørgsmål til workshoppen\, er I velkomne til at skrive til event@ordblind.org. \n  \nVi forbeholder os retten til at foretage ændringer eller aflyse arrangementet i tilfælde af for få tilmeldinger.
URL:https://www.ordblindeforeningen.dk/event/kom-til-appwriter-kursus-med-wizkids-vejle/
LOCATION:Grejs kulturcenter\, lokale Nord\, Vestermarksvej 13A\, Vejle\, 7100
ATTACH;FMTTYPE=image/jpeg:https://www.ordblindeforeningen.dk/wp-content/uploads/2024/09/Begivenheder-foredrag-undervisning1-scaled.jpg
END:VEVENT
BEGIN:VEVENT
DTSTART;TZID=Europe/Copenhagen:20250125T143000
DTEND;TZID=Europe/Copenhagen:20250125T163000
DTSTAMP:20260421T164855
CREATED:20241218T070012Z
LAST-MODIFIED:20250120T093912Z
UID:10000309-1737815400-1737822600@www.ordblindeforeningen.dk
SUMMARY:Kom til AppWriter-kursus med Wizkids (Aalborg)
DESCRIPTION:Lyt\n        \n        Bliv skarp på AppWriter og lær effektive skrive-strategier til hverdagen – Gratis kursus for barn og forælder (= 2 personer) \nPå dette forældre-barn kursus får du tips og tricks til at bruge AppWriter effektivt i hverdagen. Vi vil lære dig strategier til\, hvordan du kan bruge oplæsning\, ordforslag og tale til tekst til at støtte skriveprocessen. Vi glæder os til at se dig og én forælder til kurset. \nOBS! Dit barn skal gå i 4. til 9. klasse og bruge AppWriter som hjælpemiddel for at kunne deltage i kurset. \nTilmelding: I tilmelder jer ved at trække én billet her på siden. Barn og én forælder er inkluderet i samme billet\, så I skal kun trække én! \nTilmelding sker efter først-til-mølle-princippet\, så I er tilmeldt workshoppen\, så snart I har en billet. \nOBS! I skal være medlem af foreningen for at kunne deltage i workshoppen. Er I ikke medlem? Så kan I blive det her. \nHar I spørgsmål til workshoppen\, er I velkomne til at skrive til event@ordblind.org. \n  \nVi forbeholder os retten til at foretage ændringer eller aflyse arrangementet i tilfælde af for få tilmeldinger.
URL:https://www.ordblindeforeningen.dk/event/kom-til-appwriter-kursus-med-wizkids-aalborg/
LOCATION:Foredragssalen i Medborgerhuset (Aalborg Bibliotek)\, Rendsburggade 2\, Aalborg\, 9000
ATTACH;FMTTYPE=image/jpeg:https://www.ordblindeforeningen.dk/wp-content/uploads/2024/09/Begivenheder-foredrag-undervisning1-scaled.jpg
END:VEVENT
BEGIN:VEVENT
DTSTART;TZID=Europe/Copenhagen:20250126T093000
DTEND;TZID=Europe/Copenhagen:20250126T143000
DTSTAMP:20260421T164855
CREATED:20241125T151514Z
LAST-MODIFIED:20250121T074748Z
UID:10000256-1737883800-1737901800@www.ordblindeforeningen.dk
SUMMARY:IT-Workshop for børn og forældre (4.-9. Klasse) - Nordborg
DESCRIPTION:Lyt\n        \n        “Bliv skarp på din ordblindhed og IT-redskaberne” – Gratis workshop for barn og forælder  \nHar du et ordblindt barn i 4. til 9. klasse\, som trænger til hjælp for at lykkes? Så har du nu muligheden for at deltage i en givende og effektiv workshop sammen med dit barn. \nMålet for dagen er at give dig og dit barn en forståelse for\, hvad ordblindhed er\, og at ruste jer til brugen af IT-redskaber. \nDer vil være fokus på at arbejde med selvværd og at gøre mobiltelefonen og computeren til daglige redskaber\, der kan hjælpe i hverdagen og i skolen. \nSamtidig får du som forælder mulighed for at netværke med andre forældre. \n  \nPraktiske informationer: \n\nTidspunkt: Workshoppen er fra 9.30-14.30 og inkluderer fuld forplejning.\nDato: Den 26. januar 2025.\nSted: Friskolen Østerlund – Karholmvej 4\, 6430 Nordborg.\nUnderviser: Christian Bock.\n\n  \nDu tilmelder dig og dit barn ved at trække 1 gratis billet her på hjemmesiden. \nOBS! Du er som forælder inkluderet i dit barns billet\, så I skal KUN trække 1 billet!
URL:https://www.ordblindeforeningen.dk/event/it-workshop-for-boern-og-foraeldre-4-9-klasse-nordborg/
LOCATION:Nordborg\, Karholmvej 4\, Nordborg\, 6430
ATTACH;FMTTYPE=image/jpeg:https://www.ordblindeforeningen.dk/wp-content/uploads/2024/01/Begivenheder-skole-it-boern-unge2-scaled.jpg
END:VEVENT
END:VCALENDAR