BEGIN:VCALENDAR
VERSION:2.0
PRODID:-//Ordblindeforeningen - ECPv6.15.20//NONSGML v1.0//EN
CALSCALE:GREGORIAN
METHOD:PUBLISH
X-WR-CALNAME:Ordblindeforeningen
X-ORIGINAL-URL:https://www.ordblindeforeningen.dk
X-WR-CALDESC:Begivenheder for Ordblindeforeningen
REFRESH-INTERVAL;VALUE=DURATION:PT1H
X-Robots-Tag:noindex
X-PUBLISHED-TTL:PT1H
BEGIN:VTIMEZONE
TZID:Europe/Copenhagen
BEGIN:DAYLIGHT
TZOFFSETFROM:+0100
TZOFFSETTO:+0200
TZNAME:CEST
DTSTART:20230326T010000
END:DAYLIGHT
BEGIN:STANDARD
TZOFFSETFROM:+0200
TZOFFSETTO:+0100
TZNAME:CET
DTSTART:20231029T010000
END:STANDARD
BEGIN:DAYLIGHT
TZOFFSETFROM:+0100
TZOFFSETTO:+0200
TZNAME:CEST
DTSTART:20240331T010000
END:DAYLIGHT
BEGIN:STANDARD
TZOFFSETFROM:+0200
TZOFFSETTO:+0100
TZNAME:CET
DTSTART:20241027T010000
END:STANDARD
BEGIN:DAYLIGHT
TZOFFSETFROM:+0100
TZOFFSETTO:+0200
TZNAME:CEST
DTSTART:20250330T010000
END:DAYLIGHT
BEGIN:STANDARD
TZOFFSETFROM:+0200
TZOFFSETTO:+0100
TZNAME:CET
DTSTART:20251026T010000
END:STANDARD
END:VTIMEZONE
BEGIN:VEVENT
DTSTART;TZID=Europe/Copenhagen:20240831T110000
DTEND;TZID=Europe/Copenhagen:20240831T160000
DTSTAMP:20260421T215017
CREATED:20240109T114549Z
LAST-MODIFIED:20240819T123107Z
UID:10000191-1725102000-1725120000@www.ordblindeforeningen.dk
SUMMARY:It-Workshop (LST) for voksne (Taastrup)
DESCRIPTION:Lyt\n        \n        Workshop for dig\, der som voksen ordblind ønsker at komme i gang med at bruge din LST (læse- og skriveteknologi) i hverdagen og på arbejdet. \nFormålet medworkshoppen er at klæde dig bedst muligt på til at forstå din ordblindhed og komme i gang med at bruge din LST (læse- og skriveteknologi) i hverdagen og på arbejde/uddannelse. Du vil få et godt kendskab til at bruge LST og får hjælp til at indstille LST på din egen computer og smartphone. Du vil på workshoppen også få vejledning i\, hvordan du får en bevilling fra din bopælskommune til LST. \nUndervisningen er bygget op om teori\, gennemgang af LST\, strategier og praksisøvelser. På den måde sikrer vi os\, at du får det bedst mulige udgangspunkt for\, at din dagligdag kan fungere bedst muligt med LST fremadrettet. \nDer er plads til 8 voksne på kurset (+ 18 år)\, og det er gratis at deltage. Workshoppen er med fuld forplejning. \n  \nTidspunkt: 11.00-16.00 \nDato: Den 31. august 2024 \nSted: DH-Huset (Taastrup) \nUnderviser: Christian Bock \n  \nTilmelding foregår efter først-til-mølle-princippet\, hvilket betyder\, at du er tilmeldt workshoppen\, så snart du har en billet. Billetten bliver tilsendt til den mail\, som du opgiver ved tilmelding. \nDu tilmelder dig ved at trække 1 gratis billet på hjemmesiden. \nNB! Det er kun tilladt at deltage i 1 workshop pr. halvår. \nWorkshoppen er et gratis tilbud til alle. Har du ikke et medlemsnummer\, skriver du ´0000´ i feltet\, når du tilmelder dig. \n  \nOm underviser Christian Bock: \nChristian Bock er uddannet mekaniker og ejendomsservice tekniker. \nI 2009 startede han sin egen virksomhed\, Ordblindementor. Se mere på www.ordblindementor.dk. \nI dag arbejder han for skoler\, jobcentre og kommuner\, hvor han bl.a. hjælper med opsætning og installation af it-hjælpemidler til ordblinde og mennesker med et læsehandicap. \nTil dato har han afholdt over 1000 foredrag om ordblindhed\, hvor han altid fortæller om sin egen situation som stærk ordblind og sin afhængighed af it-hjælpemidler. \n  \nVi forbeholder os retten til ændringer og eventuelle aflysninger
URL:https://www.ordblindeforeningen.dk/event/it-workshop-lst-for-voksne-sjaelland-2/
LOCATION:Danske Handicaporganisationers hus\, Blekinge Boulevard 2\, Taastrup\, 2630
ATTACH;FMTTYPE=image/jpeg:https://www.ordblindeforeningen.dk/wp-content/uploads/2024/01/Slide2-scaled.jpg
END:VEVENT
END:VCALENDAR