BEGIN:VCALENDAR
VERSION:2.0
PRODID:-//Ordblindeforeningen - ECPv6.15.20//NONSGML v1.0//EN
CALSCALE:GREGORIAN
METHOD:PUBLISH
X-ORIGINAL-URL:https://www.ordblindeforeningen.dk
X-WR-CALDESC:Begivenheder for Ordblindeforeningen
REFRESH-INTERVAL;VALUE=DURATION:PT1H
X-Robots-Tag:noindex
X-PUBLISHED-TTL:PT1H
BEGIN:VTIMEZONE
TZID:Europe/Copenhagen
BEGIN:DAYLIGHT
TZOFFSETFROM:+0100
TZOFFSETTO:+0200
TZNAME:CEST
DTSTART:20230326T010000
END:DAYLIGHT
BEGIN:STANDARD
TZOFFSETFROM:+0200
TZOFFSETTO:+0100
TZNAME:CET
DTSTART:20231029T010000
END:STANDARD
BEGIN:DAYLIGHT
TZOFFSETFROM:+0100
TZOFFSETTO:+0200
TZNAME:CEST
DTSTART:20240331T010000
END:DAYLIGHT
BEGIN:STANDARD
TZOFFSETFROM:+0200
TZOFFSETTO:+0100
TZNAME:CET
DTSTART:20241027T010000
END:STANDARD
BEGIN:DAYLIGHT
TZOFFSETFROM:+0100
TZOFFSETTO:+0200
TZNAME:CEST
DTSTART:20250330T010000
END:DAYLIGHT
BEGIN:STANDARD
TZOFFSETFROM:+0200
TZOFFSETTO:+0100
TZNAME:CET
DTSTART:20251026T010000
END:STANDARD
END:VTIMEZONE
BEGIN:VEVENT
DTSTART;TZID=Europe/Copenhagen:20240303T090000
DTEND;TZID=Europe/Copenhagen:20240303T140000
DTSTAMP:20260426T013601
CREATED:20230808T114108Z
LAST-MODIFIED:20240226T094701Z
UID:10000119-1709456400-1709474400@www.ordblindeforeningen.dk
SUMMARY:It-workshop for barn og forælder (Vejle)
DESCRIPTION:Lyt\n        \n        “Bliv skarp på din ordblindhed og IT-redskaberne” – Gratis workshop for barn og forælder  \nHar du et ordblindt barn i 4. til 9. klasse\, som trænger til at få hjælp til at lykkes. Så har du nu muligheden for at komme på alle tiders intensive workshop sammen med dit barn. \nMålet for dagen er give dig og dit barn en forståelse for\, hvad ordblindhed er og klæde jer godt på til IT-redskaberne. \nDer er fokus på at arbejde med selvværd og gøre mobilen og computeren til daglige redskaber\, der kan hjælpe i hverdag og skole. \nSamtidig får du som forælder mulighed for at netværke med andre forældre. \n  \nTidspunkt: Workshoppen er fra 9-14 og er med fuld forplejning. \nDato: 3. marts 2024 \nSted: Ulvehavevej 61\, 7100 Vejle \nUnderviser: Mie fra Ordblindetalent \n  \nTilmeld dit barn ved at “købe” 1 gratis billet på hjemmesiden.  \nOBS! Du er som forælder med i dit barns billet\, så KUN 1 billet per barn. \n  \nVi forbeholder os retten til ændringer og eventuelle aflysninger
URL:https://www.ordblindeforeningen.dk/event/it-workshop-for-boern-og-foraeldre-jylland/
LOCATION:Vejle (midtby)\, Ulvehavevej 61\, Vejle\, 7100
ORGANIZER;CN="Ordblinde/Dysleksiforeningen i Danmark":MAILTO:kontor@ordblind.org
END:VEVENT
BEGIN:VEVENT
DTSTART;TZID=Europe/Copenhagen:20240303T110000
DTEND;TZID=Europe/Copenhagen:20240303T150000
DTSTAMP:20260426T013601
CREATED:20240207T085755Z
LAST-MODIFIED:20240229T115819Z
UID:10000214-1709463600-1709478000@www.ordblindeforeningen.dk
SUMMARY:Kom til 3-kamp og middag sammen med andre unge i alderen 15-25 år!
DESCRIPTION:Lyt\n        \n        Ordblindeforeningen er glade for at kunne invitere foreningens unge i alderen 15-25 år til et sjovt og socialt arrangement på Fyn.  \nArrangementet består af en 3-kamp i lasergames\, bowling og minigolf\, hvor du kan udfordre dine venner og andre unge i foreningen. Og når sulten melder sig\, venter der en lækker middag hos Maximum. \nDet bedste af det hele? Arrangementet er helt gratis for alle unge medlemmer af vores forening\, uanset hvilket medlemskab du har\, så længe du er mellem 15-25 år. Det er din chance for at være en del af et fællesskab og møde andre unge. \n  \nDato og tidspunkt: søndag den 3. marts 2024 kl. 11:00 – 15:00. \nSted: Maximum\, Grønløkken 3\, 5000 Odense. \nPris: Gratis \n  \nTilmelding: Tilmelding sker ved at skrive en mail til alma@ordblind.org \n  \n 
URL:https://www.ordblindeforeningen.dk/event/generalforsamling-middag-og-3-kamp-i-du/
LOCATION:Maximum\, Grønløkken 3\, Odense\, 5000
END:VEVENT
BEGIN:VEVENT
DTSTART;TZID=Europe/Copenhagen:20240313T180000
DTEND;TZID=Europe/Copenhagen:20240313T200000
DTSTAMP:20260426T013601
CREATED:20240222T094354Z
LAST-MODIFIED:20240222T095721Z
UID:10000219-1710352800-1710360000@www.ordblindeforeningen.dk
SUMMARY:Ordblindeforeningens Fynskreds afholder forårsevent & generalforsamling
DESCRIPTION:Lyt\n        \n        Ordblindeforeningens Fynskreds afholder forårsevent & generalforsamling d. 13/3-24 kl. 18-20. \nÅdalskolen – Fangel Friskole lægger hus til arrangementet\, som vil foregå på Brogårdsvej 75\, 5260 Odense S. \nFynskredsen skaber arrangementer på Fyn\, hvor vi alle kan blive klogere på ordblindhed\, samt på hvordan man som ordblind håndterer forskellige udfordringer i hverdagen. Inden generalforsamlingen byder vi på oplæg v/Sofie Borup tidligere formand for Dysleksi Ungdom og nu næstformand i Ordblindeforeningen. \n”Jeg er ordblind og hvad så?  \n \nOplægget vil handle om Sofies uddannelsesrejse – herunder hvad der var svært i folkeskolen\, accept af hjælpemidler samt udfordringer og motivation for at fortsætte uddannelsesrejsen – krydret med hvordan man som forældre kan understøtte det ordblinde barn/unge menneske. Formålet med oplægget er at få en fælles øjenåbner\, som kan danne baggrund for en god debat efterfølgende. \nForedrag og generalforsamling er gratis. Ordblindeforeningen vil være vært med kaffe/te\, sodavand og en sandwich – men vi har brug for tilmelding\, så vi ved\, hvor mange kander kaffe der skal brygges😊 \n  \nTilmelding sker ved at trække en gratis billet her på hjemmesiden. \nTryk også gerne ”deltager” på kredsens Facebookside: Ordblindeforeningen Fyn\, under begivenheden og del gerne budskabet. \n  \nKlik her for at se dagsordenen til generalforsamlingen \n  \nOrdblindeforeningen\, Fynskredsens Bestyrelse
URL:https://www.ordblindeforeningen.dk/event/ordblindeforeningens-fynskreds-afholder-foraarsevent-generalforsamling/
LOCATION:Ådalskolen\, Brogårdsvej 75\, Odense S\, 5260
END:VEVENT
BEGIN:VEVENT
DTSTART;TZID=Europe/Copenhagen:20240314T173000
DTEND;TZID=Europe/Copenhagen:20240314T183000
DTSTAMP:20260426T013601
CREATED:20240123T094107Z
LAST-MODIFIED:20240304T120910Z
UID:10000202-1710437400-1710441000@www.ordblindeforeningen.dk
SUMMARY:Netværksgruppe for forældre med ordblinde børn i grundskolen
DESCRIPTION:Lyt\n        \n        Dagens emne: “Hvordan støtter jeg mit barn?” \nHar du lyst til at indgå i et fællesskab og gå i dialog med andre forældre til ordblinde børn? Så er vores nyoprettede netværksgruppe måske noget for dig. Netværket har til formål at være en støttende og informationsrig platform skabt specielt til forældre\, der har ordblinde børn i grundskolen. Formålet med dette netværk er at skabe et fællesskab\, hvor I kan dele jeres erfaringer\, støtte hinanden og få adgang til værdifuld vejledning. \nI løbet af året vil der blive afholdt fire netværksgruppemøder med forskellige fokusområder\, der berører relevante emner og udfordringer. \n  \nDato: Den 14. marts 2024 \nTid: 17:30-18:30 \nSted: DH-Huset – Blekinge boulevard 2\, 2630 Taastrup \nPris: Der er et deltagergebyr på 20 kr. som er for kaffe og kage \n  \nFacilitator: Anna Ljundal \nDet er Anna Ljundal\, som faciliterer netværksgruppen i sin egenskab som ordblindespecialist og konfliktmægler. \nHendes rolle som facilitator er at strukturere møderne\, skabe en indbydende atmosfære og sikre\, at alle føler sig hørt og støttet. Anna vil desuden bidrage med vejledning og ressourcer for at hjælpe jer med at navigere gennem de udfordringer\, I står overfor som forældre til ordblinde børn. \n  \nTilmelding foregår efter først-til-mølle-princippet\, hvilket betyder\, at du er tilmeldt netværksgruppen\, så snart at du har en billet. Billetten bliver tilsendt til den mail\, som du opgiver ved tilmelding.
URL:https://www.ordblindeforeningen.dk/event/netvaerksgruppe-for-foraeldre-med-ordblinde-boern-i-grundskolen/
LOCATION:Danske Handicaporganisationers hus\, Blekinge Boulevard 2\, Taastrup\, 2630
END:VEVENT
BEGIN:VEVENT
DTSTART;TZID=Europe/Copenhagen:20240314T190000
DTEND;TZID=Europe/Copenhagen:20240314T200000
DTSTAMP:20260426T013601
CREATED:20240123T100827Z
LAST-MODIFIED:20240213T111241Z
UID:10000206-1710442800-1710446400@www.ordblindeforeningen.dk
SUMMARY:Netværksgruppe for ordblinde i beskæftigelse (+ 18 år)
DESCRIPTION:Lyt\n        \n        Dagens emne: “Hvordan håndterer jeg min ordblindhed i privatlivet?” \nHar du lyst til at deltage i et fællesskab og gå i dialog med andre voksne\, der oplever ordblindhed i deres beskæftigelse eller job? Så kunne vores nyoprettede netværksgruppe være noget for dig. Netværket er designet som en støttende og informationsrig platform\, skabt specifikt til voksne\, der står over for ordblindhed i deres arbejdsliv. Formålet med dette netværk er at skabe et fællesskab\, hvor I kan dele jeres erfaringer\, støtte hinanden og få adgang til værdifuld vejledning. \nI løbet af året vil der blive afholdt fire netværksgruppemøder med forskellige fokusområder\, der berører relevante emner og udfordringer. \n  \nDato: Den 14. marts 2024 \nTid: 19:00-20:00 \nSted: DH-Huset – Blekinge boulevard 2\, 2630 Taastrup \nPris: Der er et deltagergebyr på 20 kr. som er for kaffe og kage \n  \nFacilitator: Anna Ljundal \nDet er Anna Ljundal\, som faciliterer netværksgruppen i sin egenskab som ordblindespecialist og konfliktmægler. \nHendes rolle som facilitator er at strukturere møderne\, skabe en indbydende atmosfære og sikre\, at alle føler sig hørt og støttet. Anna vil desuden bidrage med vejledning og ressourcer for at hjælpe jer med at navigere gennem de udfordringer\, I står overfor som ordblinde i beskæftigelse. \n  \nTilmelding foregår efter først-til-mølle-princippet\, hvilket betyder\, at du er tilmeldt netværksgruppen\, så snart at du har en billet. Billetten bliver tilsendt til den mail\, som du opgiver ved tilmelding.
URL:https://www.ordblindeforeningen.dk/event/netvaerksgruppe-for-ordblinde-i-beskaeftigelse-18-aar/
LOCATION:Danske Handicaporganisationers hus\, Blekinge Boulevard 2\, Taastrup\, 2630
END:VEVENT
END:VCALENDAR