BEGIN:VCALENDAR
VERSION:2.0
PRODID:-//Ordblindeforeningen - ECPv6.15.20//NONSGML v1.0//EN
CALSCALE:GREGORIAN
METHOD:PUBLISH
X-ORIGINAL-URL:https://www.ordblindeforeningen.dk
X-WR-CALDESC:Begivenheder for Ordblindeforeningen
REFRESH-INTERVAL;VALUE=DURATION:PT1H
X-Robots-Tag:noindex
X-PUBLISHED-TTL:PT1H
BEGIN:VTIMEZONE
TZID:Europe/Copenhagen
BEGIN:DAYLIGHT
TZOFFSETFROM:+0100
TZOFFSETTO:+0200
TZNAME:CEST
DTSTART:20240331T010000
END:DAYLIGHT
BEGIN:STANDARD
TZOFFSETFROM:+0200
TZOFFSETTO:+0100
TZNAME:CET
DTSTART:20241027T010000
END:STANDARD
BEGIN:DAYLIGHT
TZOFFSETFROM:+0100
TZOFFSETTO:+0200
TZNAME:CEST
DTSTART:20250330T010000
END:DAYLIGHT
BEGIN:STANDARD
TZOFFSETFROM:+0200
TZOFFSETTO:+0100
TZNAME:CET
DTSTART:20251026T010000
END:STANDARD
BEGIN:DAYLIGHT
TZOFFSETFROM:+0100
TZOFFSETTO:+0200
TZNAME:CEST
DTSTART:20260329T010000
END:DAYLIGHT
BEGIN:STANDARD
TZOFFSETFROM:+0200
TZOFFSETTO:+0100
TZNAME:CET
DTSTART:20261025T010000
END:STANDARD
END:VTIMEZONE
BEGIN:VEVENT
DTSTART;VALUE=DATE:20250218
DTEND;VALUE=DATE:20250314
DTSTAMP:20260420T143414
CREATED:20241023T133109Z
LAST-MODIFIED:20250108T092124Z
UID:10000255-1739836800-1741910399@www.ordblindeforeningen.dk
SUMMARY:Styrk Dine Styrker - Lær at starte en succesfuld virksomhed (Syddanmark)
DESCRIPTION:Lyt\n        \n        Ordblinde besidder unikke styrker! Lær\, hvordan du bruger dine styrker til at starte en succesfuld virksomhed. \nStyrk Dine Styrker kurset handler om at give ordblinde en håndsrækning til at udnytte deres styrker gennem iværksætteri. Vi tilbyder personer med læse- og skrivevanskeligheder et målrettet iværksætterforløb\, der passer til deres behov og måde at lære på. \nPå dette forløb vil erfarne undervisere styrke dine kompetencer og ruste dig med værktøjer\, der giver dig et solidt fundament til at bygge din egen succesfulde iværksættervirksomhed. \nGå ikke glip af denne unikke mulighed for at udvikle dine iværksætterfærdigheder\, ved at få støtte til at overkomme de udfordringer\, der følger med ordblindhed. Sammen kan vi styrke dine styrker og hjælpe dig med at realisere dine drømme som iværksætter! \nPraktiske informationer: \n\nSted: Kurset er en kombination af fysisk og online undervisning. Den fysiske undervisning vil foregå i Kolding.\nUndervisningsdage: Tirsdage og torsdage i uge 8-11.\nPris: Gratis.\nTilmelding: Tilmelding foregår via Styrk Dine Styrkers hjemmeside. Du kan klikke her for at tilmelde dig.\n\n  \nStyrk Dine Styrker er et projekt skabt af Danske Iværksættere og Ordblindeforeningen Danmark – og støttet af Tietgenfonden. Projektet har til hensigt at undersøge\, hvordan man bedst kan støtte ordblinde i at starte egen virksomhed. Dette gør vi gennem målrettede forløb og aktiviteter for ordblinde i hele Danmark.
URL:https://www.ordblindeforeningen.dk/event/styrk-din-styrker-laer-at-starte-en-succesfuld-virksomhed-nordjylland-2/
LOCATION:Syddanmark
ATTACH;FMTTYPE=image/jpeg:https://www.ordblindeforeningen.dk/wp-content/uploads/2024/06/Styrk-dine-styrker-danske-ivaerksaettere-ordblindeforeningen-scaled.jpg
END:VEVENT
BEGIN:VEVENT
DTSTART;TZID=Europe/Copenhagen:20250303T160000
DTEND;TZID=Europe/Copenhagen:20250303T170000
DTSTAMP:20260420T143414
CREATED:20241218T070049Z
LAST-MODIFIED:20250226T103804Z
UID:10000296-1741017600-1741021200@www.ordblindeforeningen.dk
SUMMARY:Webinar med Vitec MV: Sprogfagene FP9 (9. klasse) – Aflyst
DESCRIPTION:Lyt\n        \n        Deltag i Vitec MV’s webinar om støtte til ordblinde elever i sprogfagene i 9. klasse! \nPå dette webinar fortæller Vitec MV kort om de muligheder der er\, når en ordblind elev går til prøve i et sprogfag i 9. klasse. \nDe viser også de forskellige strategier\, den ordblinde elev skal kende til\, for at kunne bruge sin IntoWords mest optimalt. Dette inkluderer generelt arbejde med de forskellige IntoWords-strategier (læsning\, skriv lydret\, *\, kontekst samt strategier for at rette) \nOBS! Dit barn skal bruge IntoWords som hjælpemiddel\, for at webinaret er relevant for jer. \n  \nTilmelding: I tilmelder jer ved at trække en gratis billet her på siden. Cirka en uge inden webinaret modtager I en mødeinvitation via den oplyste mail. \nHar I spørgsmål til webinaret\, er I velkomne til at skrive til event@ordblind.org. \n  \nVi forbeholder os retten til at foretage ændringer eller aflyse arrangementet i tilfælde af for få tilmeldinger.
URL:https://www.ordblindeforeningen.dk/event/webinar-med-vitec-mv-sprogfagene-fp9-9-klasse/
LOCATION:Online
ATTACH;FMTTYPE=image/jpeg:https://www.ordblindeforeningen.dk/wp-content/uploads/2024/09/Begivenheder-online-scaled.jpg
END:VEVENT
END:VCALENDAR