BEGIN:VCALENDAR
VERSION:2.0
PRODID:-//Ordblindeforeningen - ECPv6.15.20//NONSGML v1.0//EN
CALSCALE:GREGORIAN
METHOD:PUBLISH
X-ORIGINAL-URL:https://www.ordblindeforeningen.dk
X-WR-CALDESC:Begivenheder for Ordblindeforeningen
REFRESH-INTERVAL;VALUE=DURATION:PT1H
X-Robots-Tag:noindex
X-PUBLISHED-TTL:PT1H
BEGIN:VTIMEZONE
TZID:Europe/Copenhagen
BEGIN:DAYLIGHT
TZOFFSETFROM:+0100
TZOFFSETTO:+0200
TZNAME:CEST
DTSTART:20230326T010000
END:DAYLIGHT
BEGIN:STANDARD
TZOFFSETFROM:+0200
TZOFFSETTO:+0100
TZNAME:CET
DTSTART:20231029T010000
END:STANDARD
BEGIN:DAYLIGHT
TZOFFSETFROM:+0100
TZOFFSETTO:+0200
TZNAME:CEST
DTSTART:20240331T010000
END:DAYLIGHT
BEGIN:STANDARD
TZOFFSETFROM:+0200
TZOFFSETTO:+0100
TZNAME:CET
DTSTART:20241027T010000
END:STANDARD
BEGIN:DAYLIGHT
TZOFFSETFROM:+0100
TZOFFSETTO:+0200
TZNAME:CEST
DTSTART:20250330T010000
END:DAYLIGHT
BEGIN:STANDARD
TZOFFSETFROM:+0200
TZOFFSETTO:+0100
TZNAME:CET
DTSTART:20251026T010000
END:STANDARD
END:VTIMEZONE
BEGIN:VEVENT
DTSTART;VALUE=DATE:20241118
DTEND;VALUE=DATE:20241212
DTSTAMP:20260421T162444
CREATED:20241023T132825Z
LAST-MODIFIED:20241023T133431Z
UID:10000253-1731888000-1733961599@www.ordblindeforeningen.dk
SUMMARY:Styrk din styrker - Lær at starte en succesfuld virksomhed (Sjælland)
DESCRIPTION:Lyt\n        \n        Ordblinde besidder unikke styrker! Lær\, hvordan du bruger dine styrker til at starte en succesfuld virksomhed. \nStyrk Dine Styrker kurset handler om at give ordblinde en håndsrækning til at udnytte deres styrker gennem iværksætteri. Vi tilbyder personer med læse- og skrivevanskeligheder et målrettet iværksætterforløb\, der passer til deres behov og måde at lære på. \nPå dette forløb vil erfarne undervisere styrke dine kompetencer og ruste dig med værktøjer\, der giver dig et solidt fundament til at bygge din egen succesfulde iværksættervirksomhed. \nGå ikke glip af denne unikke mulighed for at udvikle dine iværksætterfærdigheder\, ved at få støtte til at overkomme de udfordringer\, der følger med ordblindhed. Sammen kan vi styrke dine styrker og hjælpe dig med at realisere dine drømme som iværksætter! \nPraktiske informationer: \n\nSted: Kurset er en kombination af fysisk og online undervisning. Den fysiske undervisning vil foregå i Næstved.\nUndervisningsdage: Mandage og onsdage i uge 47-50.\nPris: Gratis.\nTilmelding: Tilmelding foregår via Styrk Dine Styrkers hjemmeside. Du kan klikke her for at tilmelde dig.\n\n  \nStyrk Dine Styrker er et projekt skabt af Danske Iværksættere og Ordblindeforeningen Danmark – og støttet af Tietgenfonden. Projektet har til hensigt at undersøge\, hvordan man bedst kan støtte ordblinde i at starte egen virksomhed. Dette gør vi gennem målrettede forløb og aktiviteter for ordblinde i hele Danmark.
URL:https://www.ordblindeforeningen.dk/event/styrk-din-styrker-laer-at-starte-en-succesfuld-virksomhed-sjaelland/
LOCATION:Sjælland
ATTACH;FMTTYPE=image/jpeg:https://www.ordblindeforeningen.dk/wp-content/uploads/2024/06/Styrk-dine-styrker-danske-ivaerksaettere-ordblindeforeningen-scaled.jpg
END:VEVENT
BEGIN:VEVENT
DTSTART;TZID=Europe/Copenhagen:20241207T093000
DTEND;TZID=Europe/Copenhagen:20241207T143000
DTSTAMP:20260421T162444
CREATED:20240109T105614Z
LAST-MODIFIED:20241127T075457Z
UID:10000185-1733563800-1733581800@www.ordblindeforeningen.dk
SUMMARY:It-workshop for børn i 4. til 9. klasse og deres forældre (Taastrup)
DESCRIPTION:Lyt\n        \n        “Bliv skarp på din ordblindhed og IT-redskaberne” – Gratis workshop for barn og forælder  \nHar du et ordblindt barn i 4. til 9. klasse\, som trænger til hjælp for at lykkes? Så har du nu muligheden for at deltage i en givende og effektiv workshop sammen med dit barn. \nMålet for dagen er at give dig og dit barn en forståelse for\, hvad ordblindhed er\, og at ruste jer til brugen af IT-redskaber. \nDer vil være fokus på at arbejde med selvværd og at gøre mobiltelefonen og computeren til daglige redskaber\, der kan hjælpe i hverdagen og i skolen. \nSamtidig får du som forælder mulighed for at netværke med andre forældre. \n  \nTidspunkt: Workshoppen er fra 9.30-14.30 og inkluderer fuld forplejning. \nDato: Den 7. december 2024 \nSted: DH-Huset (Taastrup) \nUnderviser: Christian Bock \n  \nTilmelding foregår efter først-til-mølle-princippet\, hvilket betyder\, at I er tilmeldt workshoppen\, så snart I har en billet. Billetten bliver tilsendt til den mail\, som du opgiver ved tilmelding. \nDu tilmelder dit barn ved at trække 1 gratis billet på hjemmesiden.  \nOBS! Du er som forælder inkluderet i dit barns billet\, så I skal KUN trække 1 billet! \nNB! Det er kun tilladt at deltage i 1 workshop pr. halvår. \nWorkshoppen er et gratis tilbud til alle. Har I ikke et medlemsnummer\, skriver I ´0000´ i feltet\, når I tilmelder jer. \n  \nOm underviser Christian Bock: \nChristian Bock er uddannet mekaniker og ejendomsservice tekniker. \nI 2009 startede han sin egen virksomhed\, Ordblindementor. Se mere på www.ordblindementor.dk. \nI dag arbejder han for skoler\, jobcentre og kommuner\, hvor han bl.a. hjælper med opsætning og installation af it-hjælpemidler til ordblinde og mennesker med et læsehandicap. \nTil dato har han afholdt over 1000 foredrag om ordblindhed\, hvor han altid fortæller om sin egen situation som stærk ordblind og sin afhængighed af it-hjælpemidler. \n  \nVi forbeholder os retten til ændringer og eventuelle aflysninger
URL:https://www.ordblindeforeningen.dk/event/it-workshop-for-barn-og-foraelder-sjaelland-3/
LOCATION:Danske Handicaporganisationers hus\, Blekinge Boulevard 2\, Taastrup\, 2630
ATTACH;FMTTYPE=image/png:https://www.ordblindeforeningen.dk/wp-content/uploads/2024/01/Begivenheder-grafisk-1.png
END:VEVENT
END:VCALENDAR