BEGIN:VCALENDAR
VERSION:2.0
PRODID:-//Ordblindeforeningen - ECPv6.15.20//NONSGML v1.0//EN
CALSCALE:GREGORIAN
METHOD:PUBLISH
X-WR-CALNAME:Ordblindeforeningen
X-ORIGINAL-URL:https://www.ordblindeforeningen.dk
X-WR-CALDESC:Begivenheder for Ordblindeforeningen
REFRESH-INTERVAL;VALUE=DURATION:PT1H
X-Robots-Tag:noindex
X-PUBLISHED-TTL:PT1H
BEGIN:VTIMEZONE
TZID:Europe/Copenhagen
BEGIN:DAYLIGHT
TZOFFSETFROM:+0100
TZOFFSETTO:+0200
TZNAME:CEST
DTSTART:20230326T010000
END:DAYLIGHT
BEGIN:STANDARD
TZOFFSETFROM:+0200
TZOFFSETTO:+0100
TZNAME:CET
DTSTART:20231029T010000
END:STANDARD
BEGIN:DAYLIGHT
TZOFFSETFROM:+0100
TZOFFSETTO:+0200
TZNAME:CEST
DTSTART:20240331T010000
END:DAYLIGHT
BEGIN:STANDARD
TZOFFSETFROM:+0200
TZOFFSETTO:+0100
TZNAME:CET
DTSTART:20241027T010000
END:STANDARD
BEGIN:DAYLIGHT
TZOFFSETFROM:+0100
TZOFFSETTO:+0200
TZNAME:CEST
DTSTART:20250330T010000
END:DAYLIGHT
BEGIN:STANDARD
TZOFFSETFROM:+0200
TZOFFSETTO:+0100
TZNAME:CET
DTSTART:20251026T010000
END:STANDARD
END:VTIMEZONE
BEGIN:VEVENT
DTSTART;VALUE=DATE:20241029
DTEND;VALUE=DATE:20241122
DTSTAMP:20260421T183800
CREATED:20240625T124316Z
LAST-MODIFIED:20241023T132643Z
UID:10000227-1730160000-1732233599@www.ordblindeforeningen.dk
SUMMARY:Styrk din styrker - Lær at starte en succesfuld virksomhed (Midtjylland)
DESCRIPTION:Lyt\n        \n        Ordblinde besidder unikke styrker! Lær\, hvordan du bruger dine styrker til at starte en succesfuld virksomhed. \nStyrk Dine Styrker kurset handler om at give ordblinde en håndsrækning til at udnytte deres styrker gennem iværksætteri. Vi tilbyder personer med læse- og skrivevanskeligheder et målrettet iværksætterforløb\, der passer til deres behov og måde at lære på. \nPå dette forløb vil erfarne undervisere styrke dine kompetencer og ruste dig med værktøjer\, der giver dig et solidt fundament til at bygge din egen succesfulde iværksættervirksomhed. \nGå ikke glip af denne unikke mulighed for at udvikle dine iværksætterfærdigheder\, ved at få støtte til at overkomme de udfordringer\, der følger med ordblindhed. Sammen kan vi styrke dine styrker og hjælpe dig med at realisere dine drømme som iværksætter! \nPraktiske informationer: \n\nSted: Kurset er en kombination af fysisk og online undervisning. Den fysiske undervisning vil foregå i Aarhus.\nUndervisningsdage: Tirsdage og torsdage i uge 44-47.\nPris: Gratis.\nTilmelding: Tilmelding foregår via Styrk Dine Styrkers hjemmeside. Du kan klikke her for at tilmelde dig.\n\n  \nStyrk Dine Styrker er et projekt skabt af Danske Iværksættere og Ordblindeforeningen Danmark – og støttet af Tietgenfonden. Projektet har til hensigt at undersøge\, hvordan man bedst kan støtte ordblinde i at starte egen virksomhed. Dette gør vi gennem målrettede forløb og aktiviteter for ordblinde i hele Danmark.
URL:https://www.ordblindeforeningen.dk/event/fokus-paa-dig-der-er-ivaerksaetter-og-ordblind/
LOCATION:Midtjylland
ATTACH;FMTTYPE=image/jpeg:https://www.ordblindeforeningen.dk/wp-content/uploads/2024/06/Styrk-dine-styrker-danske-ivaerksaettere-ordblindeforeningen-scaled.jpg
END:VEVENT
BEGIN:VEVENT
DTSTART;TZID=Europe/Copenhagen:20241114T173000
DTEND;TZID=Europe/Copenhagen:20241114T190000
DTSTAMP:20260421T183800
CREATED:20240123T095459Z
LAST-MODIFIED:20241108T135511Z
UID:10000205-1731605400-1731610800@www.ordblindeforeningen.dk
SUMMARY:Netværksgruppe for forældre med ordblinde børn i grundskolen - AFLYST
DESCRIPTION:Lyt\n        \n        Netværksgruppen er aflyst.\nDagens emne: “Dialogen mellem forældrene” \nHar du lyst til at indgå i et fællesskab og gå i dialog med andre forældre til ordblinde børn? Så er vores nyoprettede netværksgruppe måske noget for dig. Netværket har til formål at være en støttende og informationsrig platform skabt specielt til forældre\, der har ordblinde børn i grundskolen. Formålet med dette netværk er at skabe et fællesskab\, hvor I kan dele jeres erfaringer\, støtte hinanden og få adgang til værdifuld vejledning. \nI løbet af året vil der blive afholdt fire netværksgruppemøder med forskellige fokusområder\, der berører relevante emner og udfordringer. \n  \nDato: Den 14. november 2024 \nTid: 17:30-19:00 \nSted: DH-Huset – Blekinge boulevard 2\, 2630 Taastrup \nPris: Der er et deltagergebyr på 20 kr. som er for kaffe og kage \n  \nFacilitator: Anna Ljundal \nDet er Anna Ljundal\, som faciliterer netværksgruppen i sin egenskab som ordblindespecialist og konfliktmægler. \nHendes rolle som facilitator er at strukturere møderne\, skabe en indbydende atmosfære og sikre\, at alle føler sig hørt og støttet. Anna vil desuden bidrage med vejledning og ressourcer for at hjælpe jer med at navigere gennem de udfordringer\, I står overfor som forældre til ordblinde børn. \n  \nTilmelding foregår efter først-til-mølle-princippet\, hvilket betyder\, at du er tilmeldt netværksgruppen\, så snart at du har en billet. Billetten bliver tilsendt til den mail\, som du opgiver ved tilmelding. Bemærk\, at netværksgrupperne kun er for medlemmer. \n  \nVi forbeholder os retten til ændringer og eventuelle aflysninger.
URL:https://www.ordblindeforeningen.dk/event/netvaerksgruppe-for-foraeldre-med-ordblinde-boern-i-grundskolen-4/
LOCATION:Danske Handicaporganisationers hus\, Blekinge Boulevard 2\, Taastrup\, 2630
ATTACH;FMTTYPE=image/jpeg:https://www.ordblindeforeningen.dk/wp-content/uploads/2024/01/Slide6-scaled.jpg
END:VEVENT
BEGIN:VEVENT
DTSTART;TZID=Europe/Copenhagen:20241114T190000
DTEND;TZID=Europe/Copenhagen:20241114T200000
DTSTAMP:20260421T183800
CREATED:20240123T103130Z
LAST-MODIFIED:20241108T135436Z
UID:10000209-1731610800-1731614400@www.ordblindeforeningen.dk
SUMMARY:Netværksgruppe for ordblinde i beskæftigelse (+ 18 år) - AFLYST
DESCRIPTION:Lyt\n        \n        Netværksgruppen er aflyst.\nDagens emne: Ukendt på nuværende tidspunkt \nHar du lyst til at deltage i et fællesskab og gå i dialog med andre voksne\, der oplever ordblindhed i deres beskæftigelse eller job? Så kunne vores nyoprettede netværksgruppe være noget for dig. Netværket er designet som en støttende og informationsrig platform\, skabt specifikt til voksne\, der står over for ordblindhed i deres arbejdsliv. Formålet med dette netværk er at skabe et fællesskab\, hvor I kan dele jeres erfaringer\, støtte hinanden og få adgang til værdifuld vejledning. \nI løbet af året vil der blive afholdt fire netværksgruppemøder med forskellige fokusområder\, der berører relevante emner og udfordringer. \n  \nDato: Den 14. november 2024 \nTid: 19:00-20:00 \nSted: DH-Huset – Blekinge boulevard 2\, 2630 Taastrup \nPris: Der er et deltagergebyr på 20 kr. som er for kaffe og kage \n  \nFacilitator: Anna Ljundal \nDet er Anna Ljundal\, som faciliterer netværksgruppen i sin egenskab som ordblindespecialist og konfliktmægler. \nHendes rolle som facilitator er at strukturere møderne\, skabe en indbydende atmosfære og sikre\, at alle føler sig hørt og støttet. Anna vil desuden bidrage med vejledning og ressourcer for at hjælpe jer med at navigere gennem de udfordringer\, I står overfor som ordblinde i beskæftigelse. \nTilmelding foregår efter først-til-mølle-princippet\, hvilket betyder\, at du er tilmeldt netværksgruppen\, så snart at du har en billet. Billetten bliver tilsendt til den mail\, som du opgiver ved tilmelding. Bemærk\, at netværksgrupperne kun er for medlemmer. \n  \nVi forbeholder os retten til ændringer og eventuelle aflysninger.
URL:https://www.ordblindeforeningen.dk/event/netvaerksgruppe-for-ordblinde-i-beskaeftigelse-18-aar-4/
LOCATION:Danske Handicaporganisationers hus\, Blekinge Boulevard 2\, Taastrup\, 2630
ATTACH;FMTTYPE=image/jpeg:https://www.ordblindeforeningen.dk/wp-content/uploads/2024/01/Slide4-scaled.jpg
END:VEVENT
END:VCALENDAR