BEGIN:VCALENDAR
VERSION:2.0
PRODID:-//Ordblindeforeningen - ECPv6.15.20//NONSGML v1.0//EN
CALSCALE:GREGORIAN
METHOD:PUBLISH
X-ORIGINAL-URL:https://www.ordblindeforeningen.dk
X-WR-CALDESC:Begivenheder for Ordblindeforeningen
REFRESH-INTERVAL;VALUE=DURATION:PT1H
X-Robots-Tag:noindex
X-PUBLISHED-TTL:PT1H
BEGIN:VTIMEZONE
TZID:Europe/Copenhagen
BEGIN:DAYLIGHT
TZOFFSETFROM:+0100
TZOFFSETTO:+0200
TZNAME:CEST
DTSTART:20230326T010000
END:DAYLIGHT
BEGIN:STANDARD
TZOFFSETFROM:+0200
TZOFFSETTO:+0100
TZNAME:CET
DTSTART:20231029T010000
END:STANDARD
BEGIN:DAYLIGHT
TZOFFSETFROM:+0100
TZOFFSETTO:+0200
TZNAME:CEST
DTSTART:20240331T010000
END:DAYLIGHT
BEGIN:STANDARD
TZOFFSETFROM:+0200
TZOFFSETTO:+0100
TZNAME:CET
DTSTART:20241027T010000
END:STANDARD
BEGIN:DAYLIGHT
TZOFFSETFROM:+0100
TZOFFSETTO:+0200
TZNAME:CEST
DTSTART:20250330T010000
END:DAYLIGHT
BEGIN:STANDARD
TZOFFSETFROM:+0200
TZOFFSETTO:+0100
TZNAME:CET
DTSTART:20251026T010000
END:STANDARD
END:VTIMEZONE
BEGIN:VEVENT
DTSTART;TZID=Europe/Copenhagen:20241026T090000
DTEND;TZID=Europe/Copenhagen:20241026T120000
DTSTAMP:20260421T201454
CREATED:20240109T152322Z
LAST-MODIFIED:20241015T085617Z
UID:10000200-1729933200-1729944000@www.ordblindeforeningen.dk
SUMMARY:Kom til IntoWords-kursus hos Vitec MV (Odense)
DESCRIPTION:Lyt\n        \n        “Bliv skarp på Vitec MVs læse- og skriveværktøj IntoWords” – Gratis kursus for barn og forælder (= 2 personer) \nHar du et ordblindt barn i 4. til 9. klasse\, som trænger til hjælp til sine it-redskaber? \nMålet for dagen er at gøre dit barn til en superbruger af IntoWords\, så hverdagen og skolearbejdet bliver lettere. \nSamtidig får du som forælder mulighed for at netværke med andre forældre\, og møde en repræsentant fra Fynskredsen. \nOBS! Det er et krav\, at dit barn benytter IntoWords som hjælpemiddel for at kunne deltage på kurset. \n  \nTidspunkt: Kurset varer fra 9.00-12.00. \nDato: Den 26. oktober 2024 \nSted: Vitec MV\, Edisonsvej 4\, 5000 Odense C. \nUnderviser: Dorte Brandborg fra Vitec \nForplejning: Der serveres kaffe/te og rundstykker ved ankomst\, og der er kaffe/te/vand og frugt i kursuslokalet hele formiddagen \n  \nTilmelding foregår efter først-til-mølle-princippet\, hvilket betyder\, at I er tilmeldt kurset\, så snart I har en billet. Billetten bliver tilsendt til den mail\, som du opgiver ved tilmelding. \nDu tilmelder dit barn ved at trække én gratis billet på hjemmesiden.  \nOBS! Du er som forælder inkluderet i dit barns billet\, så I skal KUN trække 1 billet! \nNB! Det er kun tilladt at deltage i 1 workshop pr. halvår. \nKurset er et gratis tilbud til alle. Har I ikke et medlemsnummer\, skriver I ´0000´ i feltet\, når I tilmelder jer. \n  \nVi forbeholder os retten til ændringer og eventuelle aflysninger.
URL:https://www.ordblindeforeningen.dk/event/kom-til-it-kursus-hos-vitec-odense-4/
LOCATION:Vitec MV\, Cortex Park Vest 3\, Odense M\, 5230
ATTACH;FMTTYPE=image/jpeg:https://www.ordblindeforeningen.dk/wp-content/uploads/2024/01/Begivenheder-it-workshop-scaled.jpg
END:VEVENT
BEGIN:VEVENT
DTSTART;TZID=Europe/Copenhagen:20241026T100000
DTEND;TZID=Europe/Copenhagen:20241026T140000
DTSTAMP:20260421T201454
CREATED:20240604T121629Z
LAST-MODIFIED:20241024T082742Z
UID:10000225-1729936800-1729951200@www.ordblindeforeningen.dk
SUMMARY:It-workshop om Apple-teknologi for unge og voksne ordblinde (Fyn)
DESCRIPTION:Lyt\n        \n        Lær at benytte Apples indbyggede funktioner og relevante apps \nOrdblindeforeningen afholder i år fire Apple-workshops i samarbejde med vores lokalkredse. Vores kurser er specifikt designet til dig med ordblindhed\, der ønsker at lære mere om de indbyggede funktioner og relevante apps på Apples computere\, iPads og iPhones. Til workshoppen vil der være kaffe/te\, sandwich\, sodavand og cookies. \n  \nTidspunkt: 10.00-14.00 \nSted: FGU Fyn Odense – Falen 200\, 5250 Odense SV \nDato: 26. oktober 2024 \nNiveau: Begynder – Til dig som er helt ny i at bruge Apples produkter \n  \nOm kurset: \nKurset vil blive afholdt af erfarne undervisere med speciale i assisterende teknologier for mennesker med ordblindhed. Deltagerne skal være ordblinde og over 15 år for at deltage\, og der er plads til 20 personer på hver workshop. Bemærk\, at du skal medbringe din egen Apple-enhed. De yngre deltagers forældre er velkomne til at tage med. \n  \nIndholdet i workshoppen: \nGennem en kombination af demonstration og praktiske øvelser vil du få indsigt i de mest nyttige funktioner\, såsom skærmlæser\, skærmforstørrelse\, talegenkendelse og kunstig intelligens. Du vil desuden kunne lære\, hvordan du kan anvende apps til tekstbehandling\, notater\, organisation og kommunikation. Du vil også få eksempler på\, hvordan teknologien kan anvendes i dagligdagssituationer. Deltagelse i dette kursus vil give dig mulighed for at opdage\, hvordan Apple-teknologi kan gøre din hverdag nemmere og mere effektiv. \n  \nIndhold: \n\nIntroduktion til Apple-teknologi og enheder\nIndbyggede funktioner til støtte for ordblindhed\, såsom skærmlæser\, skærmforstørrelse og talegenkendelse\nBrug af apps og netbaserede teknologier til tekstbehandling\, notater\, organisation og kommunikation\nPræsentation af eksempler på brug af teknologi i dagligdagen\nPraktiske øvelser og træning i brug af funktioner og apps\n\n  \nTilmeldingsfrist: 22. oktober 2024 \nWorkshoppen er et gratis tilbud til alle. Har du ikke et medlemsnummer\, skriver du ´0000´ i feltet\, når du tilmelder dig. \n  \nDet er kreds Fyn\, der er vært for arrangementet. \n  \nVi forbeholder os retten til ændringer og eventuelle aflysninger
URL:https://www.ordblindeforeningen.dk/event/it-workshop-om-appleprodukter-for-unge-og-voksne-ordblinde-fyn-odense/
LOCATION:FGU Fyn Odense\, Falen 200\, Odense SV\, 5250
ATTACH;FMTTYPE=image/jpeg:https://www.ordblindeforeningen.dk/wp-content/uploads/2024/06/Apple-it-workshop-ordblindeforeningen-opt2-scaled.jpg
END:VEVENT
BEGIN:VEVENT
DTSTART;TZID=Europe/Copenhagen:20241026T100000
DTEND;TZID=Europe/Copenhagen:20241026T150000
DTSTAMP:20260421T201454
CREATED:20241010T141201Z
LAST-MODIFIED:20241010T141457Z
UID:10000249-1729936800-1729954800@www.ordblindeforeningen.dk
SUMMARY:Foredrag med Christian Bock (Nordsjælland)
DESCRIPTION:Lyt\n        \n        Kom og hør et foredrag om kunstig intelligens og hjælpemidler! \nKom og hør Christian Bock fortælle om sig selv og kunstig intelligens. Efter foredraget vil der være mulighed for at få hjælp til dine hjælpemidler til computer og telefon. \nVi sørger for hjemmelavede sandwich til frokost og lidt lækkert i løbet af dagen. \nPraktiske informationer: \n\nDato: Lørdag den 26. oktober 2024\nTidspunkt: kl. 10:00-15:00\nAdresse: Jernbanegade 2a\, 3300 Frederiksværk (lokale Multisalen – det ligger inde i gården).\nPris: Gratis – tilmelding nødvendig af hensyn til indkøb.\nTilmelding: Send en mail til annamarie@ordblind.org senest den 20. oktober.
URL:https://www.ordblindeforeningen.dk/event/foredrag-med-christian-bock-nordsjaelland/
LOCATION:Frederiksværk\, Jernbanegade 2a\, Frederiksværk\, 3300
ATTACH;FMTTYPE=image/jpeg:https://www.ordblindeforeningen.dk/wp-content/uploads/2024/09/Begivenheder-foredrag-undervisning-scaled.jpg
END:VEVENT
END:VCALENDAR