BEGIN:VCALENDAR
VERSION:2.0
PRODID:-//Ordblindeforeningen - ECPv6.15.20//NONSGML v1.0//EN
CALSCALE:GREGORIAN
METHOD:PUBLISH
X-WR-CALNAME:Ordblindeforeningen
X-ORIGINAL-URL:https://www.ordblindeforeningen.dk
X-WR-CALDESC:Begivenheder for Ordblindeforeningen
REFRESH-INTERVAL;VALUE=DURATION:PT1H
X-Robots-Tag:noindex
X-PUBLISHED-TTL:PT1H
BEGIN:VTIMEZONE
TZID:Europe/Copenhagen
BEGIN:DAYLIGHT
TZOFFSETFROM:+0100
TZOFFSETTO:+0200
TZNAME:CEST
DTSTART:20230326T010000
END:DAYLIGHT
BEGIN:STANDARD
TZOFFSETFROM:+0200
TZOFFSETTO:+0100
TZNAME:CET
DTSTART:20231029T010000
END:STANDARD
BEGIN:DAYLIGHT
TZOFFSETFROM:+0100
TZOFFSETTO:+0200
TZNAME:CEST
DTSTART:20240331T010000
END:DAYLIGHT
BEGIN:STANDARD
TZOFFSETFROM:+0200
TZOFFSETTO:+0100
TZNAME:CET
DTSTART:20241027T010000
END:STANDARD
BEGIN:DAYLIGHT
TZOFFSETFROM:+0100
TZOFFSETTO:+0200
TZNAME:CEST
DTSTART:20250330T010000
END:DAYLIGHT
BEGIN:STANDARD
TZOFFSETFROM:+0200
TZOFFSETTO:+0100
TZNAME:CET
DTSTART:20251026T010000
END:STANDARD
END:VTIMEZONE
BEGIN:VEVENT
DTSTART;TZID=Europe/Copenhagen:20241020T093000
DTEND;TZID=Europe/Copenhagen:20241020T143000
DTSTAMP:20260421T200920
CREATED:20240109T111430Z
LAST-MODIFIED:20241016T143737Z
UID:10000186-1729416600-1729434600@www.ordblindeforeningen.dk
SUMMARY:It-workshop for børn i 4. til 9. klasse (Næstved)
DESCRIPTION:Lyt\n        \n        Der er stadig 2 ledige pladser på workshoppen!  \n“Bliv skarp på din ordblindhed og IT-redskaberne” – Gratis workshop for barn og forælder  \nHar du et ordblindt barn i 4. til 9. klasse\, som trænger til hjælp for at lykkes? Så har du nu muligheden for at deltage i en givende og effektiv workshop sammen med dit barn. \nMålet for dagen er at give dig og dit barn en forståelse for\, hvad ordblindhed er\, og at ruste jer til brugen af IT-redskaber. \nDer vil være fokus på at arbejde med selvværd og at gøre mobiltelefonen og computeren til daglige redskaber\, der kan hjælpe i hverdagen og i skolen. \nSamtidig får du som forælder mulighed for at netværke med andre forældre. \n  \nTidspunkt: Workshoppen er fra 9.30-14.30 og inkluderer fuld forplejning. \nDato: Den 20. oktober 2024 \nSted: Frivilligcenter Næstved – Farimagsvej 16\, 4700 Næstved \nUnderviser: Mie fra Ordblindetalent \nTilmelding: Tilmeld dig og dit barn ved at skrive en mail til: mie@ordblindetalent.dk \n\nTilmelding foregår efter først-til-mølle-princippet\, hvilket betyder\, at I er tilmeldt workshoppen\, så snart I har en billet.\n\n  \nVi forbeholder os retten til ændringer og eventuelle aflysninger
URL:https://www.ordblindeforeningen.dk/event/it-workshop-for-barn-og-foraelder-sjaelland-4/
LOCATION:Arena Næstved\, Ved Stadion 11\, Næstved\, 4700
ATTACH;FMTTYPE=image/jpeg:https://www.ordblindeforeningen.dk/wp-content/uploads/2024/01/Begivenheder-skole-it-boern-unge1-scaled.jpg
END:VEVENT
END:VCALENDAR