BEGIN:VCALENDAR
VERSION:2.0
PRODID:-//Ordblindeforeningen - ECPv6.15.20//NONSGML v1.0//EN
CALSCALE:GREGORIAN
METHOD:PUBLISH
X-WR-CALNAME:Ordblindeforeningen
X-ORIGINAL-URL:https://www.ordblindeforeningen.dk
X-WR-CALDESC:Begivenheder for Ordblindeforeningen
REFRESH-INTERVAL;VALUE=DURATION:PT1H
X-Robots-Tag:noindex
X-PUBLISHED-TTL:PT1H
BEGIN:VTIMEZONE
TZID:Europe/Copenhagen
BEGIN:DAYLIGHT
TZOFFSETFROM:+0100
TZOFFSETTO:+0200
TZNAME:CEST
DTSTART:20230326T010000
END:DAYLIGHT
BEGIN:STANDARD
TZOFFSETFROM:+0200
TZOFFSETTO:+0100
TZNAME:CET
DTSTART:20231029T010000
END:STANDARD
BEGIN:DAYLIGHT
TZOFFSETFROM:+0100
TZOFFSETTO:+0200
TZNAME:CEST
DTSTART:20240331T010000
END:DAYLIGHT
BEGIN:STANDARD
TZOFFSETFROM:+0200
TZOFFSETTO:+0100
TZNAME:CET
DTSTART:20241027T010000
END:STANDARD
BEGIN:DAYLIGHT
TZOFFSETFROM:+0100
TZOFFSETTO:+0200
TZNAME:CEST
DTSTART:20250330T010000
END:DAYLIGHT
BEGIN:STANDARD
TZOFFSETFROM:+0200
TZOFFSETTO:+0100
TZNAME:CET
DTSTART:20251026T010000
END:STANDARD
END:VTIMEZONE
BEGIN:VEVENT
DTSTART;TZID=Europe/Copenhagen:20241005T093000
DTEND;TZID=Europe/Copenhagen:20241005T143000
DTSTAMP:20260421T200918
CREATED:20240224T154831Z
LAST-MODIFIED:20241004T135018Z
UID:10000220-1728120600-1728138600@www.ordblindeforeningen.dk
SUMMARY:It-workshop for unge i 7. til 9. klasse (Thisted) - AFLYST
DESCRIPTION:Lyt\n        \n        IT-workshoppen er flyttet til søndag den 27. oktober 2024\nGår dit barn i 7. til 9. klasse\, og har dit barn brug for at lykkes med IT-redskaber? Så har dit barn nu muligheden for at komme med på en givende og effektiv workshop\, hvor de sammen med andre unge kan lære og få bedre styr på ordblindhed og IT-redskaber. \nPå denne dag vil vi fokusere på at forstå\, hvad ordblindhed er\, og vi vil hjælpe dit barn med at blive bedre til at bruge sine IT-værktøjer. Vi vil også arbejde med at styrke dit barns selvtillid og lære dem at gøre mobiltelefonen og computeren til nyttige redskaber\, som kan hjælpe dem i hverdagen og i skolen. \n  \nTidspunkt: Workshoppen er fra 9.30-14.30 og inkluderer fuld forplejning. \nDato: Den 5. oktober 2024 \nSted: Lerpyttervej 50\, 7700 Thisted \nUnderviser: Christian Bock \n  \nTilmelding foregår efter først-til-mølle-princippet\, hvilket betyder\, at dit barn er tilmeldt workshoppen\, så snart I har en billet. Billetten bliver tilsendt til den mail\, som du opgiver ved tilmelding. \nDu tilmelder dit barn ved at trække 1 gratis billet på hjemmesiden.  \nNB! Det er kun tilladt at deltage i 1 workshop pr. halvår. \nWorkshoppen er et gratis tilbud til alle. Har I ikke et medlemsnummer\, skriver I ´0000´ i feltet\, når I tilmelder jer. \n  \nOm underviser Christian Bock: \nChristian Bock er uddannet mekaniker og ejendomsservice tekniker. \nI 2009 startede han sin egen virksomhed\, Ordblindementor. Se mere på www.ordblindementor.dk. \nI dag arbejder han for skoler\, jobcentre og kommuner\, hvor han bl.a. hjælper med opsætning og installation af it-hjælpemidler til ordblinde og mennesker med et læsehandicap. \nTil dato har han afholdt over 1000 foredrag om ordblindhed\, hvor han altid fortæller om sin egen situation som stærk ordblind og sin afhængighed af it-hjælpemidler. \n  \nVi forbeholder os retten til ændringer og eventuelle aflysninger. 
URL:https://www.ordblindeforeningen.dk/event/it-workshop-for-unge-i-7-til-9-klasse-thisted/
LOCATION:Thisted\, Lerpyttervej 50\, Thisted\, 7700
ATTACH;FMTTYPE=image/jpeg:https://www.ordblindeforeningen.dk/wp-content/uploads/2024/01/Slide2-scaled.jpg
END:VEVENT
BEGIN:VEVENT
DTSTART;TZID=Europe/Copenhagen:20241005T130000
DTEND;TZID=Europe/Copenhagen:20241005T163000
DTSTAMP:20260421T200918
CREATED:20240820T115156Z
LAST-MODIFIED:20240929T113632Z
UID:10000243-1728133200-1728145800@www.ordblindeforeningen.dk
SUMMARY:Ordblindeforeningens Uge 40 Event: ''Digitale værktøjer'' (Taastrup)
DESCRIPTION:Lyt\n        \n        Kom og deltag i en inspirerende afslutning på Den Danske Ordblindeuge sammen med Ordblindeforeningen Danmark! Sammen sætter vi fokus på ordblindhed og byder på en dag fyldt med viden\, inspiration og fællesskab. \nArrangementet byder på spændende oplæg\, en engagerende paneldebat\, og som et af dagens højdepunkter vil vi overrække Ordblindeprisen 2024. Med årets tema\, ‘Digitale værktøjer – fremtiden er digital for mennesker med ordblindhed’\, sætter vi fokus på de daglige udfordringer\, mennesker med ordblindhed står overfor\, og hvordan digitale værktøjer kan gøre en positiv forskel. Under arrangementet vil der blive serveret kaffe\, te\, sodavand og kage\, så du kan nyde lidt godt undervejs. \nDu vil også få mulighed for at få personlig sparring hos vores Vejledningscenter\, hvor du kan få gode råd og vejledning. \nVi har sørget for\, at børn også er velkomne\, da der vil være et dedikeret område med aktiviteter for børn! \nEventet ”Digitale Værktøjer” er en del af Ordblindeforeningens intensiveret fokus på at skabe opmærksomhed på ordblindesagen i løbet af Den Internationale Ordblindemåned. \nPraktiske informationer: \n\nDato: Lørdag den 5. oktober 2024.\nTid: kl. 13.00-16.30.\nSted: Handicaporganisationernes Hus\, Blekinge Boulevard 2\, 2630 Taastrup.\nPris: 40 kr. for medlemmer og 75 kr. for ikke-medlemmer.\n\n  \nForeløbigt program: \n\n13.00: Velkomst v. Ordblindeforeningen Danmark.\n13.15: Overrækkelse af Ordblindeprisen 2024.\n13.30: Oplæg om AI.\n14.00: PAUSE – Kaffe og kage.\n14.30: Oplæg med Line Leth.\n15.00: Paneldebat: ”Digitale værktøjer i grundskolen – eller mangel på samme”.\n15.45: Networking.\n16.30: Tak for i dag.\n\nVi forbeholder os retten til ændringer i programmet. \n  \nTilmelding: Du tilmelder dig ved at købe en billet her på siden. Vi glæder os til at se dig!
URL:https://www.ordblindeforeningen.dk/event/event-om-digitale-vaerktoejer-taastrup/
LOCATION:DH-Huset\, Blekinge Boulevard 2\, Taastrup\, 2630
ATTACH;FMTTYPE=image/jpeg:https://www.ordblindeforeningen.dk/wp-content/uploads/2024/08/EVENT-D.-5.-OKTOBER-scaled.jpg
END:VEVENT
END:VCALENDAR