BEGIN:VCALENDAR
VERSION:2.0
PRODID:-//Ordblindeforeningen - ECPv6.15.20//NONSGML v1.0//EN
CALSCALE:GREGORIAN
METHOD:PUBLISH
X-WR-CALNAME:Ordblindeforeningen
X-ORIGINAL-URL:https://www.ordblindeforeningen.dk
X-WR-CALDESC:Begivenheder for Ordblindeforeningen
REFRESH-INTERVAL;VALUE=DURATION:PT1H
X-Robots-Tag:noindex
X-PUBLISHED-TTL:PT1H
BEGIN:VTIMEZONE
TZID:Europe/Copenhagen
BEGIN:DAYLIGHT
TZOFFSETFROM:+0100
TZOFFSETTO:+0200
TZNAME:CEST
DTSTART:20230326T010000
END:DAYLIGHT
BEGIN:STANDARD
TZOFFSETFROM:+0200
TZOFFSETTO:+0100
TZNAME:CET
DTSTART:20231029T010000
END:STANDARD
BEGIN:DAYLIGHT
TZOFFSETFROM:+0100
TZOFFSETTO:+0200
TZNAME:CEST
DTSTART:20240331T010000
END:DAYLIGHT
BEGIN:STANDARD
TZOFFSETFROM:+0200
TZOFFSETTO:+0100
TZNAME:CET
DTSTART:20241027T010000
END:STANDARD
BEGIN:DAYLIGHT
TZOFFSETFROM:+0100
TZOFFSETTO:+0200
TZNAME:CEST
DTSTART:20250330T010000
END:DAYLIGHT
BEGIN:STANDARD
TZOFFSETFROM:+0200
TZOFFSETTO:+0100
TZNAME:CET
DTSTART:20251026T010000
END:STANDARD
END:VTIMEZONE
BEGIN:VEVENT
DTSTART;TZID=Europe/Copenhagen:20240921T093000
DTEND;TZID=Europe/Copenhagen:20240921T143000
DTSTAMP:20260421T214855
CREATED:20240109T105045Z
LAST-MODIFIED:20240911T064704Z
UID:10000184-1726911000-1726929000@www.ordblindeforeningen.dk
SUMMARY:It-workshop for børn i 4. til 9. klasse (Taastrup)
DESCRIPTION:Lyt\n        \n        “Bliv skarp på din ordblindhed og IT-redskaberne” – Gratis workshop for barn og forælder  \nHar du et ordblindt barn i 4. til 9. klasse\, som trænger til hjælp for at lykkes? Så har du nu muligheden for at deltage i en givende og effektiv workshop sammen med dit barn. \nMålet for dagen er at give dig og dit barn en forståelse for\, hvad ordblindhed er\, og at ruste jer til brugen af IT-redskaber. \nDer vil være fokus på at arbejde med selvværd og at gøre mobiltelefonen og computeren til daglige redskaber\, der kan hjælpe i hverdagen og i skolen. \nSamtidig får du som forælder mulighed for at netværke med andre forældre. \n  \nTidspunkt: Workshoppen er fra 9.30-14.30 og inkluderer fuld forplejning. \nDato: Den 21. september 2024 \nSted: DH-Huset (Taastrup) \nUnderviser: Christian Bock \n  \nTilmelding foregår efter først-til-mølle-princippet\, hvilket betyder\, at I er tilmeldt workshoppen\, så snart I har en billet. Billetten bliver tilsendt til den mail\, som du opgiver ved tilmelding. \nDu tilmelder dit barn ved at trække 1 gratis billet på hjemmesiden.  \nOBS! Du er som forælder inkluderet i dit barns billet\, så I skal KUN trække 1 billet! \nNB! Det er kun tilladt at deltage i 1 workshop pr. halvår. \nWorkshoppen er et gratis tilbud til alle. Har I ikke et medlemsnummer\, skriver I ´0000´ i feltet\, når I tilmelder jer. \n  \nOm underviser Christian Bock: \nChristian Bock er uddannet mekaniker og ejendomsservice tekniker. \nI 2009 startede han sin egen virksomhed\, Ordblindementor. Se mere på www.ordblindementor.dk. \nI dag arbejder han for skoler\, jobcentre og kommuner\, hvor han bl.a. hjælper med opsætning og installation af it-hjælpemidler til ordblinde og mennesker med et læsehandicap. \nTil dato har han afholdt over 1000 foredrag om ordblindhed\, hvor han altid fortæller om sin egen situation som stærk ordblind og sin afhængighed af it-hjælpemidler. \n  \nVenteliste: Vi kontakter jer\, hvis der bliver en ledig plads tilgængelig. \n  \nVi forbeholder os retten til ændringer og eventuelle aflysninger
URL:https://www.ordblindeforeningen.dk/event/it-workshop-for-barn-og-foraelder-sjaelland-2/
LOCATION:Danske Handicaporganisationers hus\, Blekinge Boulevard 2\, Taastrup\, 2630
ATTACH;FMTTYPE=image/jpeg:https://www.ordblindeforeningen.dk/wp-content/uploads/2024/01/Begivenheder-skole-it-boern-unge-scaled.jpg
END:VEVENT
END:VCALENDAR