BEGIN:VCALENDAR
VERSION:2.0
PRODID:-//Ordblindeforeningen - ECPv6.15.20//NONSGML v1.0//EN
CALSCALE:GREGORIAN
METHOD:PUBLISH
X-WR-CALNAME:Ordblindeforeningen
X-ORIGINAL-URL:https://www.ordblindeforeningen.dk
X-WR-CALDESC:Begivenheder for Ordblindeforeningen
REFRESH-INTERVAL;VALUE=DURATION:PT1H
X-Robots-Tag:noindex
X-PUBLISHED-TTL:PT1H
BEGIN:VTIMEZONE
TZID:Europe/Copenhagen
BEGIN:DAYLIGHT
TZOFFSETFROM:+0100
TZOFFSETTO:+0200
TZNAME:CEST
DTSTART:20230326T010000
END:DAYLIGHT
BEGIN:STANDARD
TZOFFSETFROM:+0200
TZOFFSETTO:+0100
TZNAME:CET
DTSTART:20231029T010000
END:STANDARD
BEGIN:DAYLIGHT
TZOFFSETFROM:+0100
TZOFFSETTO:+0200
TZNAME:CEST
DTSTART:20240331T010000
END:DAYLIGHT
BEGIN:STANDARD
TZOFFSETFROM:+0200
TZOFFSETTO:+0100
TZNAME:CET
DTSTART:20241027T010000
END:STANDARD
BEGIN:DAYLIGHT
TZOFFSETFROM:+0100
TZOFFSETTO:+0200
TZNAME:CEST
DTSTART:20250330T010000
END:DAYLIGHT
BEGIN:STANDARD
TZOFFSETFROM:+0200
TZOFFSETTO:+0100
TZNAME:CET
DTSTART:20251026T010000
END:STANDARD
END:VTIMEZONE
BEGIN:VEVENT
DTSTART;TZID=Europe/Copenhagen:20240722T130000
DTEND;TZID=Europe/Copenhagen:20240725T120000
DTSTAMP:20260422T010021
CREATED:20240213T133603Z
LAST-MODIFIED:20240619T115858Z
UID:10000217-1721653200-1721908800@www.ordblindeforeningen.dk
SUMMARY:Feriekoloni uge 30 - Fyn
DESCRIPTION:Lyt\n        \n        Kom og vær med til Ordblindeforeningens spændende og sjove feriekoloni for ordblinde børn og deres familier i uge 30! \nForeningen tilbyder 2 feriekolonier i 2024 for ordblinde børn i alderen 8 – 15 år\, sammen med deres forældre og søskende. \nFormålet med kolonierne er at give familier med ordblinde børn et frirum\, hvor de kan komme og møde andre familier\, der måske står med samme udfordringer som dem selv. Koloniernes program vil indeholde foredrag og workshops om ordblindhed\, inklusion og hjælpemidler. Kolonierne giver også mulighed for vidensdeling blandt deltagerne. Derudover vil der være forskellige sociale aktiviteter\, samt en udflugt for børnene. \nTilmelding: \nI tilmelder jer ved at købe en billet til hver person\, der deltager. Der findes både børne- og voksenbilletter\, så det er vigtigt at vælge den rigtige type billet baseret på deltagerens alder. \nTilmelding sker efter først til mølle-princippet. \nForeningens feriekolonier plejer at være efterspurgte\, så skynd dig at tilmelde dig og din familie. I den forbindelse vil vi gerne appellere til\, at familier\, der har deltaget tidligere\, giver plads til andre\, og derfor venter til sidst i tilmeldingsperioden med at tilmelde sig. \nBemærk: \n\nDu og din familie kan kun tilmelde jer én af kolonierne\nTilmelding kræver et familiemedlemskab af Ordblindeforeningen\nKæledyr må ikke medbringes\nVi anbefaler\, at begge forældre deltager\nSøskende\, der ikke har ordblindhed\, er også velkomne på feriekolonien\n\nHar du spørgsmål til feriekolonierne\, er du velkommen til at skrive til kontor@ordblind.org. \nKoloniudvalget og vores hjælpere glæder sig til at møde jer på kolonierne! \n  \nVenteliste: Vi kontakter jer\, hvis der bliver en ledig plads tilgængelig.
URL:https://www.ordblindeforeningen.dk/event/feriekoloni-uge-30-fyn/
LOCATION:Nislevgård Efterskole\, Nislevvej 11\, Otterup\, 5450\, Danmark
ATTACH;FMTTYPE=image/jpeg:https://www.ordblindeforeningen.dk/wp-content/uploads/2024/02/Feriekoloni1-scaled.jpg
END:VEVENT
END:VCALENDAR