BEGIN:VCALENDAR
VERSION:2.0
PRODID:-//Ordblindeforeningen - ECPv6.15.20//NONSGML v1.0//EN
CALSCALE:GREGORIAN
METHOD:PUBLISH
X-ORIGINAL-URL:https://www.ordblindeforeningen.dk
X-WR-CALDESC:Begivenheder for Ordblindeforeningen
REFRESH-INTERVAL;VALUE=DURATION:PT1H
X-Robots-Tag:noindex
X-PUBLISHED-TTL:PT1H
BEGIN:VTIMEZONE
TZID:Europe/Copenhagen
BEGIN:DAYLIGHT
TZOFFSETFROM:+0100
TZOFFSETTO:+0200
TZNAME:CEST
DTSTART:20230326T010000
END:DAYLIGHT
BEGIN:STANDARD
TZOFFSETFROM:+0200
TZOFFSETTO:+0100
TZNAME:CET
DTSTART:20231029T010000
END:STANDARD
BEGIN:DAYLIGHT
TZOFFSETFROM:+0100
TZOFFSETTO:+0200
TZNAME:CEST
DTSTART:20240331T010000
END:DAYLIGHT
BEGIN:STANDARD
TZOFFSETFROM:+0200
TZOFFSETTO:+0100
TZNAME:CET
DTSTART:20241027T010000
END:STANDARD
BEGIN:DAYLIGHT
TZOFFSETFROM:+0100
TZOFFSETTO:+0200
TZNAME:CEST
DTSTART:20250330T010000
END:DAYLIGHT
BEGIN:STANDARD
TZOFFSETFROM:+0200
TZOFFSETTO:+0100
TZNAME:CET
DTSTART:20251026T010000
END:STANDARD
END:VTIMEZONE
BEGIN:VEVENT
DTSTART;TZID=Europe/Copenhagen:20240530T173000
DTEND;TZID=Europe/Copenhagen:20240530T190000
DTSTAMP:20260425T215032
CREATED:20240123T094721Z
LAST-MODIFIED:20240516T110249Z
UID:10000203-1717090200-1717095600@www.ordblindeforeningen.dk
SUMMARY:Netværksgruppe for forældre med ordblinde børn i grundskolen
DESCRIPTION:Lyt\n        \n        Dagens emne: “Dialogen med skolen” \nHar du lyst til at indgå i et fællesskab og gå i dialog med andre forældre til ordblinde børn? Så er vores nyoprettede netværksgruppe måske noget for dig. Netværket har til formål at være en støttende og informationsrig platform skabt specielt til forældre\, der har ordblinde børn i grundskolen. Formålet med dette netværk er at skabe et fællesskab\, hvor I kan dele jeres erfaringer\, støtte hinanden og få adgang til værdifuld vejledning. \nI løbet af året vil der blive afholdt fire netværksgruppemøder med forskellige fokusområder\, der berører relevante emner og udfordringer. \n  \nDato: Den 30. maj 2024 \nTid: 17:30-19:00 \nSted: DH-Huset – Blekinge boulevard 2\, 2630 Taastrup \nPris: Der er et deltagergebyr på 20 kr. som er for kaffe og kage \n  \nFacilitator: Anna Ljundal \nDet er Anna Ljundal\, som faciliterer netværksgruppen i sin egenskab som ordblindespecialist og konfliktmægler. \nHendes rolle som facilitator er at strukturere møderne\, skabe en indbydende atmosfære og sikre\, at alle føler sig hørt og støttet. Anna vil desuden bidrage med vejledning og ressourcer for at hjælpe jer med at navigere gennem de udfordringer\, I står overfor som forældre til ordblinde børn. \n  \nTilmelding foregår efter først-til-mølle-princippet\, hvilket betyder\, at du er tilmeldt netværksgruppen\, så snart at du har en billet. Billetten bliver tilsendt til den mail\, som du opgiver ved tilmelding. \n  \nVi forbeholder os retten til ændringer og eventuelle aflysninger.
URL:https://www.ordblindeforeningen.dk/event/netvaerksgruppe-for-foraeldre-med-ordblinde-boern-i-grundskolen-2/
LOCATION:Danske Handicaporganisationers hus\, Blekinge Boulevard 2\, Taastrup\, 2630
ATTACH;FMTTYPE=image/jpeg:https://www.ordblindeforeningen.dk/wp-content/uploads/2024/01/Slide6-scaled.jpg
END:VEVENT
END:VCALENDAR