BEGIN:VCALENDAR
VERSION:2.0
PRODID:-//Ordblindeforeningen - ECPv6.15.20//NONSGML v1.0//EN
CALSCALE:GREGORIAN
METHOD:PUBLISH
X-ORIGINAL-URL:https://www.ordblindeforeningen.dk
X-WR-CALDESC:Begivenheder for Ordblindeforeningen
REFRESH-INTERVAL;VALUE=DURATION:PT1H
X-Robots-Tag:noindex
X-PUBLISHED-TTL:PT1H
BEGIN:VTIMEZONE
TZID:Europe/Copenhagen
BEGIN:DAYLIGHT
TZOFFSETFROM:+0100
TZOFFSETTO:+0200
TZNAME:CEST
DTSTART:20240331T010000
END:DAYLIGHT
BEGIN:STANDARD
TZOFFSETFROM:+0200
TZOFFSETTO:+0100
TZNAME:CET
DTSTART:20241027T010000
END:STANDARD
BEGIN:DAYLIGHT
TZOFFSETFROM:+0100
TZOFFSETTO:+0200
TZNAME:CEST
DTSTART:20250330T010000
END:DAYLIGHT
BEGIN:STANDARD
TZOFFSETFROM:+0200
TZOFFSETTO:+0100
TZNAME:CET
DTSTART:20251026T010000
END:STANDARD
BEGIN:DAYLIGHT
TZOFFSETFROM:+0100
TZOFFSETTO:+0200
TZNAME:CEST
DTSTART:20260329T010000
END:DAYLIGHT
BEGIN:STANDARD
TZOFFSETFROM:+0200
TZOFFSETTO:+0100
TZNAME:CET
DTSTART:20261025T010000
END:STANDARD
END:VTIMEZONE
BEGIN:VEVENT
DTSTART;TZID=Europe/Copenhagen:20250803T130000
DTEND;TZID=Europe/Copenhagen:20250803T180000
DTSTAMP:20260422T202731
CREATED:20250714T123326Z
LAST-MODIFIED:20250715T120737Z
UID:10000335-1754226000-1754244000@www.ordblindeforeningen.dk
SUMMARY:Park\, pizza og ordblind!
DESCRIPTION:Lyt\n        \n        PARK\, PIZZA OG ORDBLIND – KOM OG HYG MED OS I MARSELISBORG MINDEPARK\nEr du mellem 16 og 30 år\, medlem af Ordblind Ungdom\, og klar på en hyggelig eftermiddag i det grønne? Så kom med til “Park\, pizza og ordblind” søndag den 3. august kl. 13:00 i Marselisborg Mindepark i Aarhus! \nVi sørger for en afslappende dag med masser af sjov. Du kan slå dig løs med stigegolf\, dyste i kongespil eller bare chille i græsset. Og det bedste af det hele? Der er gratis pizza og sodavand til alle deltagere! \nHvad skal du huske? \n\nTag gerne et tæppe med til at sidde på.\nVigtigt: Du tilmelder dig ved at sende en mail til Fie på fij.frivillig@ordblind.org\n\nVi glæder os til at se dig til en fantastisk dag fyldt med hygge og godt selskab. \nArrangementet er lavet af Ordblind Ungdom (OU).
URL:https://www.ordblindeforeningen.dk/event/park-pizza-og-ordblind/
LOCATION:Marselisborg Mindepark\, Aarhus\, Denmark
ATTACH;FMTTYPE=image/png:https://www.ordblindeforeningen.dk/wp-content/uploads/2025/07/Begivenheder-OU-Parkpizza-og-ordblind-scaled.png
ORGANIZER;CN="OrdblindeUngdom":MAILTO:fij.frivillig@ordblind.org
END:VEVENT
END:VCALENDAR