BEGIN:VCALENDAR
VERSION:2.0
PRODID:-//Ordblindeforeningen - ECPv6.15.20//NONSGML v1.0//EN
CALSCALE:GREGORIAN
METHOD:PUBLISH
X-WR-CALNAME:Ordblindeforeningen
X-ORIGINAL-URL:https://www.ordblindeforeningen.dk
X-WR-CALDESC:Begivenheder for Ordblindeforeningen
REFRESH-INTERVAL;VALUE=DURATION:PT1H
X-Robots-Tag:noindex
X-PUBLISHED-TTL:PT1H
BEGIN:VTIMEZONE
TZID:Europe/Copenhagen
BEGIN:DAYLIGHT
TZOFFSETFROM:+0100
TZOFFSETTO:+0200
TZNAME:CEST
DTSTART:20250330T010000
END:DAYLIGHT
BEGIN:STANDARD
TZOFFSETFROM:+0200
TZOFFSETTO:+0100
TZNAME:CET
DTSTART:20251026T010000
END:STANDARD
BEGIN:DAYLIGHT
TZOFFSETFROM:+0100
TZOFFSETTO:+0200
TZNAME:CEST
DTSTART:20260329T010000
END:DAYLIGHT
BEGIN:STANDARD
TZOFFSETFROM:+0200
TZOFFSETTO:+0100
TZNAME:CET
DTSTART:20261025T010000
END:STANDARD
BEGIN:DAYLIGHT
TZOFFSETFROM:+0100
TZOFFSETTO:+0200
TZNAME:CEST
DTSTART:20270328T010000
END:DAYLIGHT
BEGIN:STANDARD
TZOFFSETFROM:+0200
TZOFFSETTO:+0100
TZNAME:CET
DTSTART:20271031T010000
END:STANDARD
END:VTIMEZONE
BEGIN:VEVENT
DTSTART;TZID=Europe/Copenhagen:20260429T160000
DTEND;TZID=Europe/Copenhagen:20260429T190000
DTSTAMP:20260420T200825
CREATED:20260420T120955Z
LAST-MODIFIED:20260420T121149Z
UID:10000404-1777478400-1777489200@www.ordblindeforeningen.dk
SUMMARY:Gør din hverdag som ordblind lettere (Hillerød)
DESCRIPTION:Lyt\n        \n        Gør din hverdag som ordblind lettere\n– Få de rette digitale værktøjer og hjælp til at søge dem\nOrdblindeforeningens Kreds Nordsjælland og CKU Hillerød inviterer til en inspirerende temaeftermiddag for voksne ordblinde\, der ønsker en lettere digital hverdag og hjælp til at søge hjælpemidler. \nOm arrangementet:\nMorten Jacobsen fra CKU (Center for Kommunikation og Undervisning) viser os\, hvordan de nyeste digitale hjælpemidler virker i praksis. Der sker hele tiden noget nyt\, og de seneste par år er der kommet endnu flere værktøjer\, som gør det meget lettere at læse og skrive – uanset om du bruger din telefon eller computer. \nDet får du ud af at deltage:\n– De nyeste digitale værktøjer: Få fremvist de nyeste programmer og funktioner\, der gør læsning og skrivning langt hurtigere og lettere. Du får også mulighed for at prøve dem.\n– Hjælp til ansøgning: Bliv klogere på dine rettigheder og få en konkret guide til\, hvordan du får hjælpemidler bevilget gennem kommunen.\n– Fokus på voksenlivet: Oplægget er skræddersyet til dig\, der er ordblind og over 18 år – uanset om du er i job\, under uddannelse\, ledig eller sygemeldt. \nSå kom og vær med til en udbytterig eftermiddag\, hvor vi gør vejen til de rette værktøjer nem og overskuelig. \nPraktisk information:\nTidspunkt: Onsdag den 29. april 2026\, kl. 16.00-19.00\nSted: CKU Hillerød\, Skansevej 2D\, 3400 Hillerød\nForplejning: Der vil blive serveret sandwich\, kaffe og lidt sødt undervejs \nTilmelding:\nVed tilmelding send en mail til annamarie@ordblind.org. Frist for tilmelding er den 25. april 2026. \nIndhold og tidsplan:\n16.00 – 16.15: Velkomst og præsentation af CKU\n16.15 – 16.30: Sådan får du hjælp\n16.30 – 17.15: Nye teknologiske muligheder\n17.15 – 17.30: Pause\n17.30 – 18.00: Nye teknologiske muligheder\n18.00 – 19.00: Sandwich. Mulighed for at afprøve løsninger og få hjælp til ansøgning af hjælpemidler.\n19.00: Tak for i dag \nDer tages forbehold for ændringer eller aflysning ved for få tilmeldinger.
URL:https://www.ordblindeforeningen.dk/event/goer-din-hverdag-som-ordblind-lettere-hilleroed/
LOCATION:CKU Hillerød\, Skansevej 2D\, Hillerød\, 3400\, Denmark
ATTACH;FMTTYPE=image/png:https://www.ordblindeforeningen.dk/wp-content/uploads/2026/04/begivenhed-LST-hjaelpemidler-scaled.png
ORGANIZER;CN="Kredsforening Nordsj%C3%A6lland":MAILTO:annamarie@ordblind.org
END:VEVENT
END:VCALENDAR