BEGIN:VCALENDAR
VERSION:2.0
PRODID:-//Ordblindeforeningen - ECPv6.15.20//NONSGML v1.0//EN
CALSCALE:GREGORIAN
METHOD:PUBLISH
X-ORIGINAL-URL:https://www.ordblindeforeningen.dk
X-WR-CALDESC:Begivenheder for Ordblindeforeningen
REFRESH-INTERVAL;VALUE=DURATION:PT1H
X-Robots-Tag:noindex
X-PUBLISHED-TTL:PT1H
BEGIN:VTIMEZONE
TZID:Europe/Copenhagen
BEGIN:DAYLIGHT
TZOFFSETFROM:+0100
TZOFFSETTO:+0200
TZNAME:CEST
DTSTART:20250330T010000
END:DAYLIGHT
BEGIN:STANDARD
TZOFFSETFROM:+0200
TZOFFSETTO:+0100
TZNAME:CET
DTSTART:20251026T010000
END:STANDARD
BEGIN:DAYLIGHT
TZOFFSETFROM:+0100
TZOFFSETTO:+0200
TZNAME:CEST
DTSTART:20260329T010000
END:DAYLIGHT
BEGIN:STANDARD
TZOFFSETFROM:+0200
TZOFFSETTO:+0100
TZNAME:CET
DTSTART:20261025T010000
END:STANDARD
BEGIN:DAYLIGHT
TZOFFSETFROM:+0100
TZOFFSETTO:+0200
TZNAME:CEST
DTSTART:20270328T010000
END:DAYLIGHT
BEGIN:STANDARD
TZOFFSETFROM:+0200
TZOFFSETTO:+0100
TZNAME:CET
DTSTART:20271031T010000
END:STANDARD
END:VTIMEZONE
BEGIN:VEVENT
DTSTART;TZID=Europe/Copenhagen:20260311T180000
DTEND;TZID=Europe/Copenhagen:20260311T193000
DTSTAMP:20260422T171238
CREATED:20260209T135259Z
LAST-MODIFIED:20260224T125440Z
UID:10000396-1773252000-1773257400@www.ordblindeforeningen.dk
SUMMARY:Inspirerende aften om ordblindhed\, teknologi og fællesskab (Odense)
DESCRIPTION:Lyt\n        \n        I inviteres til en spændende aften med Kredsforening Fyn\, Vitec MV og Randi Hedelund Jeppesen\, der vil byde på lærerige oplæg og personlige beretninger. Sidstnævnte vil især give et indblik i\, hvordan det er at leve med ordblindhed – og hvordan det er hver dag at være afhængig af at anvende læse- og skriveteknologi. \nDato: Onsdag den 11. marts kl. 18.00-19.30\nSted: Vitec MV\, Cortex Park Vest 3\, 5230 Odense M. \nProgram: \n\nVelkomst og sandwich\nFortælling om at leve med ordblindhed\nHvad er ordblindhed?\nIntroduktion til læse-/skriveteknologi – med tips og tricks\nTeknologisk udvikling og AI\nKaffe- & kagepause\nFynskredsens Generalforsamling kl. 19.45-20.30. Ønsker du også at deltage i generalforsamlingen skal du skrive til akfyn@ordblind.org.\n\nOplægget giver forståelse og inspiration til arbejdet med mennesker med ordblindhed og gør os klogere på\, hvorfor det ikke er nok at sige: “Elever med ordblindhed kan jo bare bruge tale-til-tekst eller oplæsning.”\nRandi er uddannet lærer og lever selv med ordblindhed. Den kombination giver hende en helt unik forståelse og fundament som formidler. \nDer vil undervejs blive lagt op til refleksion og dialog\, og der er naturligvis tid til spørgsmål. Fynskredsen sørger for sandwich og sodavand\, så husk tilmelding. \nDu tilmelder dig ved at trække en billet på siden her. \n\nRandi Hedelund Jeppesen
URL:https://www.ordblindeforeningen.dk/event/inspirerende-aften-om-ordblindhed-teknologi-og-faellesskab/
LOCATION:Vitec MV\, Cortex Park Vest 3\, Odense M\, 5230
ATTACH;FMTTYPE=image/png:https://www.ordblindeforeningen.dk/wp-content/uploads/2026/02/Arrangement-teknologi-scaled.png
ORGANIZER;CN="Kredsforening Fyn":MAILTO:akfyn@ordblind.org
END:VEVENT
END:VCALENDAR